Workbook
Name DIN_рейки_оцинковані: 'Зміна прайсових цін'!$C$2205
Name DIN_рейки_оцинковані: 'Techno Systems'!$C$2205
Name LED_Лінійки_для_офісних_світильників__PRISMATIC_OPAL: 'Зміна прайсових цін'!$C$431
Name LED_Лінійки_для_офісних_світильників__PRISMATIC_OPAL: 'Techno Systems'!$C$431
Name Автоматичний_вимикач_диференційного_АВДс_18_з_захистом_від_надструмів: 'Зміна прайсових цін'!$C$3129
Name Автоматичний_вимикач_диференційного_АВДс_18_з_захистом_від_надструмів: 'Techno Systems'!$C$3129
Name Автоматичний_перемикач_АВР: 'Зміна прайсових цін'!$C$3197
Name Автоматичний_перемикач_АВР: 'Techno Systems'!$C$3197
Name Автоматичний_стріпер: 'Зміна прайсових цін'!$C$2532
Name Автоматичний_стріпер: 'Techno Systems'!$C$2532
Name Автоматичні_вимикачі_1АВД_для_захисту_двигуна: 'Зміна прайсових цін'!$C$3270
Name Автоматичні_вимикачі_1АВД_для_захисту_двигуна: 'Techno Systems'!$C$3270
Name Автоматичні_вимикачі_BA18_60__1P_2P_3P_4P___х_ка_C: 'Зміна прайсових цін'!$C$3006
Name Автоматичні_вимикачі_BA18_60__1P_2P_3P_4P___х_ка_C: 'Techno Systems'!$C$3006
Name Автоматичні_вимикачі_BA27_100__1P_2P_3P_4P___х_ка_C: 'Зміна прайсових цін'!$C$3086
Name Автоматичні_вимикачі_BA27_100__1P_2P_3P_4P___х_ка_C: 'Techno Systems'!$C$3086
Name Автоматичні_вимикачі_ВА88: 'Зміна прайсових цін'!$C$2923
Name Автоматичні_вимикачі_ВА88: 'Techno Systems'!$C$2923
Name Аксесуари_для_ВА18_60: 'Зміна прайсових цін'!$C$3083
Name Аксесуари_для_ВА18_60: 'Techno Systems'!$C$3083
Name Аксесуари_для_ВА88: 'Зміна прайсових цін'!$C$2982
Name Аксесуари_для_ВА88: 'Techno Systems'!$C$2982
Name Аксесуари_для_ВР32: 'Зміна прайсових цін'!$C$2800
Name Аксесуари_для_ВР32: 'Techno Systems'!$C$2800
Name Аксесуари_для_металорукава_РЗ_ЦПнг__РЗ_Ц: 'Зміна прайсових цін'!$C$2383
Name Аксесуари_для_металорукава_РЗ_ЦПнг__РЗ_Ц: 'Techno Systems'!$C$2383
Name Аксесуари_та_запчастини_для_ПГР_ПГПо_НГЄ__Гідравліка: 'Зміна прайсових цін'!$C$2644
Name Аксесуари_та_запчастини_для_ПГР_ПГПо_НГЄ__Гідравліка: 'Techno Systems'!$C$2644
Name Бірка_кабельна_маркувальна_У__55мм: 'Зміна прайсових цін'!$C$1894
Name Бірка_кабельна_маркувальна_У__55мм: 'Techno Systems'!$C$1894
Name Блоки_аварійного_живлення_EPS: 'Зміна прайсових цін'!$C$473
Name Блоки_аварійного_живлення_EPS: 'Techno Systems'!$C$473
Name Бокси_КМПн_1_2__2_4__3_6: 'Зміна прайсових цін'!$C$4517
Name Бокси_КМПн_1_2__2_4__3_6: 'Techno Systems'!$C$4517
Name Болти___Гайки__М6__М8: 'Зміна прайсових цін'!$C$4714
Name Болти___Гайки__М6__М8: 'Techno Systems'!$C$4714
Name Вбудована_серія_Latina: 'Зміна прайсових цін'!$C$537
Name Вбудована_серія_Latina: 'Techno Systems'!$C$537
Name Вбудована_серія_Malta: 'Зміна прайсових цін'!$C$551
Name Вбудована_серія_Malta: 'Techno Systems'!$C$551
Name Викрутки: 'Зміна прайсових цін'!$C$2508
Name Викрутки: 'Techno Systems'!$C$2508
Name Вилки: 'Зміна прайсових цін'!$C$530
Name Вилки: 'Techno Systems'!$C$530
Name Вилки_каучукові_RUBBER_IP44: 'Зміна прайсових цін'!$C$661
Name Вилки_каучукові_RUBBER_IP44: 'Techno Systems'!$C$661
Name Вилки_каучукові_RUBBER_R_B: 'Зміна прайсових цін'!$C$655
Name Вилки_каучукові_RUBBER_R_B: 'Techno Systems'!$C$655
Name Вимикач_диференційний_ПЗВ_ВД_18__УЗО___електромеханічний: 'Зміна прайсових цін'!$C$3122
Name Вимикач_диференційний_ПЗВ_ВД_18__УЗО___електромеханічний: 'Techno Systems'!$C$3122
Name Вимикач_навантаження_ВН_18___1_0: 'Зміна прайсових цін'!$C$3137
Name Вимикач_навантаження_ВН_18___1_0: 'Techno Systems'!$C$3137
Name Вимикачі_ВКИ: 'Зміна прайсових цін'!$C$4090
Name Вимикачі_ВКИ: 'Techno Systems'!$C$4090
Name Вимикачі_кінцеві_МЕ: 'Зміна прайсових цін'!$C$4095
Name Вимикачі_кінцеві_МЕ: 'Techno Systems'!$C$4095
Name Вимикачі_роз_єднувачі_ВР32И: 'Зміна прайсових цін'!$C$2752
Name Вимикачі_роз_єднувачі_ВР32И: 'Techno Systems'!$C$2752
Name Вимикачі_роз_єднувачі_ВРК_2н: 'Зміна прайсових цін'!$C$2822
Name Вимикачі_роз_єднувачі_ВРК_2н: 'Techno Systems'!$C$2822

Sheet ЗМІСТ
A1: Techno Systems | E1: Зміна прайсових цін | I1: Новинки 2025р. | M1: Замовлення TNSy | Q1: Прайс-Каталог PDF (скачати) | U1: Складські залишки | Y1: Знято з виробництва
A3: CВІТЛОТЕХНІКА | E3: ФУРНІТУРА / СИЛОВІ РОЗ'ЄМИ | I3: ЕЛ-МОНТАЖНІ ВИРОБИ | M3: ІНСТРУМЕНТИ ТА АКСЕСУАРИ | Q3: КОМУТАЦІЙНЕ ОБЛАДНАННЯ | U3: ЩИТОВЕ ОБЛАДНАННЯ | Y3: ІЗОЛЯЦІЙНІ МАТЕРІАЛИ
D4: Лампи LED A60 (AC/DC 12-48V) (Е27) | H4: Фотореле | L4: Клема КВМб 4-25мм2 ввідна для мод. обладн. | P4: Рукавички | T4: Ящики ЯРП/ЯПРП IP54 | X4: Сальники d (білі/сірі/чорні) | AB4: Стрічки ізоляційні ПВХ/ХБ/CI20
D5: Лампи LED MR16, C37 (GU5.3, Е14, Е27) | H5: Датчики руху | L5: Наконечникі плоскі С45N для АВТ.ВИМ. | P5: Рулетки | T5: Ящик із зниж. трансф. ЯТП-0,25tor | X5: Сальники PG зі спіраллю | AB5: Стрічки сигнальні "Обережно кабель"
D6: Лампи LED G45 (Е27) SILVER / GOLDEN | H6: Керамічні патрони (Е14, Е27, Е40) | L6: Наконечники луджені SC/JG/DTJG | P6: Ножі та леза сегментні | T6: Вимикачі-роз'єднувачі ВР32И | X6: Сальники PG IP68 (білі/чорні) | AB6: Спіраль монтажна СМ
D7: Лампи LED A60, A80 (Е27) SILVER / GOLDEN | H7: Перехідники (Е14, Е27, Е40) | L7: Наконечники DT | P7: Викрутки | T7: Аксесуари для ВР32И | X7: Сальники M IP68 (білі/чорні) | AB7: Кембріки зі скловолокна 15КСС
D8: Лампи LED T70-T160 (Е27, Е40) SILVER / GOLDEN | H8: Карболітові патрони Е14, Е27 | L8: Наконечники DL/DTL | P8: Плоскогубці / Бокорізи | T8: Вимикачі-роз'єднувачі ВРК-2н | X8: Сальники MG IP68 (чорні) | AB8: Трубки термоусаджувальні для шин ТТШ
D9: Лампи LED T100-T150 (Е27, Е40) GOLDEN ALUM | H9: Пластикові патрони Е14, Е27 | L9: Наконечники без ізоляції RNB/RNBS | P9: Ножиці секторні | T9: Вимикачі-роз'єднувачі РЕ | X9: Сальники PG/М IP68 (латунні) | AB9: Термоусаджувальні стрічки ТС
D10: Лампи LED Т8 SILVER (600/1200/1500) | H10: Вилки | L10: Наконечники без ізоляції ГМЛ/GL/GTL | P10: Автоматичні стріпери | T10: Вимикачі-роз'єднувачі РПБ/РПС/РБ | X10: Наклейки "БЛИСКАВКА" "ЗАЗЕМЛЕННЯ" | AB10: Термоусаджувальні рукавички ТР
D11: Лампи LED Т8 GOLDEN (600/1200/1200PRO) | H11: Вбудована серія Latina | L11: Наконечники гільзові Е/ТЕ/EN | P11: Інструменти для затягування хомутів | T11: вимикачі-роз'єднувачі ЗВР | X11: Заглушки 4 модулі (білі/сірі) | AB11: Ковпачки термоусаджувані КТк
D12: Світильники LED офісні (PRISMATIC/OPAL) | H12: Вбудована серія Malta | L12: Роз'єми FDD/FDFD/MDD | P12: Інструмент для металевих хомутів | T12: Автоматичні вимикачі ВА88 | X12: Шафи пластикові навісні КДЕ для лічильників | AB12: Термоусаджувальні трубки (в бухтах)
D13: Світильники LED офісні (PANEL-Iron Universal) (Н=20мм) | H13: Накладна серія Lemur | L13: Наконечники RV/SV/SVS | P13: Кліщі обтискні | T13: Аксесуари для ВА88 | X13: Коробки установочні d65/68 | AB13: Термоусаджувальні трубки (по 1м.)
D14: Світильники LED офісні (PANEL) (Н=30мм) | H14: Накладна серія Leon | L14: Термоусадочні гільзи та з'єднувачі SST-S/BHT | P14: Преси механічні ручні ПМР | T14: Автоматичні вимикачі BA18-60 (1P/2P/3P/4P) (х-ка C) (х-ка D) | X14: Розподільчі коробки IP55/IP65 (RAL9016) | AB14: Термоусаджувальні трубки з клеєм Н/Г (прозорі)
D15: Світильники LED офісні (PANEL-Frame) (Н=13мм) | H15: Колодки Leon | L15: З'єднувачі ЗПО/ЗІЗ | P15: Преси гідравлічні ПГР | T15: Автоматичні вимикачі BA27-100 (1P/2P/3P/4P) (х-ка C) (х-ка D) | X15: Розподільча коробка М686- IP68 | AB15: Термоусаджувальні трубки з клеєм
D16: Світильники LED офісні (PRO-LINE) (H=45мм) (5р.гар.) | H16: Колодки Lynx | L16: З'єднувачі кабельні ЗК-М (IP68) | P16: Преси для перфорації листового металу | T16: Аксесуари для ВА18-60 | X16: Колодязі кабельні пластикові ККп з кришкою
D17: Світильники LED офісні (PANEL-Round) (Н=50мм) | H17: Подовжувачі 3м/5м (3х1мм2) | L17: Клеми СМК Аксесуари для СМК | P17: Насоси НРГ/НГЕ | T17: ПЗВ ВД-18 (УЗО) | X17: Корпуси КМПн 1/2, 3/4 (без кришки)
D18: Світильники LED Downlight Deco (врізні) | H18: Розетки-таймери | L18: Клеми UTP/FTP | P18: Преси | T18: АВДс-18 | X18: Бокси КМПн 1/2, 2/4, 3/6
D19: Світильники LED Downlight (врізні) | H19: Накладна серія SURFACE IP54 (білий) | L19: Клемні колодки ТВ/ТС | P19: Трубогиб ручний гідравлічний ТРГ-25 | T19: Вимикач навантаження ВН "1-0" | X19: Корпуси пластикові ЩРВ-П/ЩРН-П (ECO)
D20: Світильники LED Downlight (накладні) | H20: Накладна серія SURFACE IP54 (сіро-чорний) | L20: Затискачі гвинтові PP | P20: Знімачі ручні гідравлічні (СГ-5т/СГ-10т) | T20: Перемикач-роз'єднувач ПРт-18/36 "1-0-2" | X20: Корпуси пластикові ЩРВ-П/ЩРН-П
D21: Світильники настільні | H21: IP66 підрозетник. зовн. устан. | L21: Затискачі гвинтові PE | P21: Столи із комплектом шинообробного обладнання СШО-150 | T21: Модульне обладнання | X21: Корпуси пластикові ЩРН-П IP65
D22: Світильники настільні акумуляторні (Mini) | H22: Вилки каучукові RUBBER R/B | L22: Шини на DIN-рейку | P22: Аксесуари та запчастини для YQK/SYK/НГЄ (Гідравліка) | T22: Лічильник 1/3F (некомер) | X22: Корпуси пластикові ЩРН-П PRO PLUS IP65
D23: Світильники LED LSO 1200 PRO ALUM (підвісний/накладний) | H23: Розетки каучукові RUBBER R/B | L23: Шини PE/N | P23: Інструмент для різання DIN-рейки | T23: Реле РНс контроль напруги та струму | X23: Корпуси пластикові ЩРН-П PRO ABS IP65
D24: Світильники LED T5 (ЛПО 1*600 / 1*1200) | H24: Вилки каучукові RUBBER IP44 | L24: Ізолятори ШЛ-ДС / ШЛ-КС | P24: Компресор | T24: Реле струму/часу/фаз | X24: Корпуси пластикові ЩМПп ABS IP65
D25: Світильники LED DHX (ЛПО 2*600 / 2*1200) | H25: Розетки каучукові RUBBER IP44 | L25: Шини «N» в корпусі / Розподільчі блоки на DIN-рейку | T25: АВР | X25: Корпуси металеві Щурн
D26: Світильники LED DHS (ЛПО 2*1200) | H26: Силові роз'єми | L26: Дюбель з металевим ударним шурупом | T26: Тримач запобіжника модульний ТЗПм-18 | X26: Корпуси металеві ЩРв/ЩРн, IP31/IP54
D27: Світильники LED LFB (ЛПП корпуси без ламп) | H27: Котушки УК10/УК20/УК30/УК40/УК50 | L27: Майданчики до хомутів МХСГ/МХГ | T27: Контактори модульні РК-КМ/КМ | X27: Корпуси металеві ЩМП/ЯРП IP54
D28: Світильники LED LPP-AS IP65 (ЛПП з LED лінійками) | L28: Кріплення ремінні КР | T28: Автоматичні вимикачі 1АВД для захисту двигуна | X28: Корпуси металеві ЩМП IP54 PRO (стаціонарні)
D29: Світильники LED LPP-DS IP65 (ЛПП з LED лінійками) | L29: Кріплення кліпса для гофри | T29: Контактори КММ/КММп | X29: Монтажний комплект на стіну для ЩМП, ЯРП, ЩРн.
D30: Світильники LED LPP-OS IP65 (ЛПП з LED лінійками) | L30: Кріплення (ялинка) кругле/плоске | T30: Контактори КММр реверс | X30: Болти / Гайки (М6, М8)
D31: Світильники LED ЖКХ (Овал/Коло) | L31: Кабельні затискачі PP/PA | T31: Додаткове обладнення до КММ/КММп | X31: Завіса потайна з отворами ЗПо-550-35
D32: Світильники НПП (коло/овал) (білі) | L32: Хомути ХС сталь нержавіюча AISI304 | T32: Реле РТ для КММ | X32: Замки до корпусів металевих
D33: Світильники НПП (коло/овал) (чорні) | L33: Хомути ХА/ХОК/Нейлон | T33: Контактори КММо | X33: Ключі до корпусів металевих
D34: Скляні матові розсіювачі для НПП | L34: Маркування кабельне МК/У | T34: Контактори КММор | X34: Заглушка пластикова ЗП-2022 для замка.
D35: Світильники Консольні LED (LJ) | L35: Муфти ПСТп/ПКВТп (до 1кВ) | T35: Контактори КМС/КМСр | X35: Круг 125х1х22 відрізний по металу
D36: Світильники Консольні LED (KJ) | L36: Аксесуари до муфт ПСТп/ПКВТп | T36: Реле РТ для КМС
D37: Світильники Консольні LED (FJ) | L37: Ізолятори SM/ІС/ШПІ (з болтом/без болтів) | T37: Додаткове обладнення до КМС
D38: Світильники Консольні LED (BJ) | L38: Шини з'єднувальні PIN/FORK (штир/вилка) | T38: Реле проміжні РП
D39: Світильники Консольні LED (SL) (Solar Light) | L39: Обмежувачі на DIN-рейки | T39: Роз'єми модульні РРП до реле РП
D40: Кронштейи для консольних світильників (30°/45°) | L40: Клеми КНГ UK/SAK | T40: Перемикач кулачковий ПКП
D41: Світильники для високих стель Led High Bay | L41: Аксесуари до Клеми КНГ | T41: Запобіжники плавкі ЗП
...

Sheet Techno Systems
B1: ЗМІСТ | D1: 46253 | E1: Ваша персональна знижка | G1: 0 | H1: Гарантія | I1: мінімальна норма відвантаження | J1: уп. групова | K1: уп. транспортна | L1: Доступно на 12.08.2026 | M1: Замовлення шт. | N1: =SUM(N4:N5399) -> 0
A2: Фото | B2: Індекс | C2: Назва | D2: Прайс ціна грн. з ПДВ | E2: Ваша ціна грн. з ПДВ | F2: Од. вим. | G2: УКТЗЕД | H2: Гарантія | I2: мінімальна норма відвантаження | J2: уп. групова | K2: уп. транспортна | L2: Доступно Харків | M2: Замовлення шт. | N2: СУМА замовлення
C3: Лампи LED A60 (AC/DC 12-48V) (Е27)
B4: TNSy5000554 | C4: Лампа світлодіодна LED Bulb A60-9W-E27-(AC/DC 12-48V)-6500K-810L ICCD | D4: 103.8 | E4: =D4-(D4*$G$1) -> 103.8 | F4: шт. | G4: 8539520000 | H4: 2 роки | I4: 1 | J4: - | K4: 100 | L4: =IFERROR(VLOOKUP(B4,Харків!A:C,3,0),"0") -> 1 | N4: =E4*M4 -> 0
B5: TNSy5000085 | C5: Лампа світлодіодна LED Bulb A60-9W-E27-(AC/DC 12-48V)-4000K-810L ICCD | D5: 103.8 | E5: =D5-(D5*$G$1) -> 103.8 | F5: шт. | G5: 8539520000 | H5: 2 роки | I5: 1 | J5: - | K5: 100 | L5: =IFERROR(VLOOKUP(B5,Харків!A:C,3,0),"0") -> >1000 | N5: =E5*M5 -> 0
C6: Лампа LED Bulb-MX-A60 (Е27) (з мікрохвильовим датчиком руху 360гр. 6м.)
B7: TNSy5001264 | C7: Лампа світлодіодна LED Bulb-MX-A60-9W-E27-230V-6500K-810L (з мікрохвильовим датчиком руху 360гр. 6м.) | D7: 183 | E7: =D7-(D7*$G$1) -> 183 | F7: шт. | G7: 8539520000 | H7: 2 роки | I7: 1 | J7: - | K7: 100 | L7: =IFERROR(VLOOKUP(B7,Харків!A:C,3,0),"0") -> >50 | N7: =E7*M7 -> 0
C8: Лампа LED MR16 (GU5.3)
B9: TNSy5000047 | C9: Лампа світлодіодна LED MR16-5W-GU5.3-220V-4000K-450L ICCD | D9: 41.18 | E9: =D9-(D9*$G$1) -> 41.18 | F9: шт. | G9: 8543709000 | H9: 2 роки | I9: 1 | J9: - | K9: 100 | L9: =IFERROR(VLOOKUP(B9,Харків!A:C,3,0),"0") -> >200 | N9: =E9*M9 -> 0
C10: Лампи LED C37 (Е14, Е27) SILVER / GOLDEN
B11: TNSy5000812 | C11: Лампа світлодіодна LED Bulb-C37-8W-E14-220V-4000K-720L SILVER | D11: 29.11 | E11: =D11-(D11*$G$1) -> 29.11 | F11: шт. | G11: 8543709000 | H11: 1 рік | I11: 1 | J11: - | K11: 100 | L11: =IFERROR(VLOOKUP(B11,Харків!A:C,3,0),"0") -> >300 | N11: =E11*M11 -> 0
B13: TNSy5000253 | C13: Лампа світлодіодна LED Bulb-C37-6W-E14-220V-6500K-630L GOLDEN | D13: 32.56 | E13: =D13-(D13*$G$1) -> 32.56 | F13: шт. | G13: 8539520000 | H13: 2 роки | I13: 1 | J13: - | K13: 100 | L13: =IFERROR(VLOOKUP(B13,Харків!A:C,3,0),"0") -> >100 | N13: =E13*M13 -> 0
B14: TNSy5000039 | C14: Лампа світлодіодна LED Bulb-C37-6W-E14-220V-4000K-540L ICCD | D14: 32.56 | E14: =D14-(D14*$G$1) -> 32.56 | F14: шт. | G14: 8543709000 | H14: 2 роки | I14: 1 | J14: - | K14: 100 | L14: =IFERROR(VLOOKUP(B14,Харків!A:C,3,0),"0") -> >200 | N14: =E14*M14 -> 0
B15: TNSy5000252 | C15: Лампа світлодіодна LED Bulb-C37-6W-E27-220V-6500K-630L GOLDEN | D15: 36.39 | E15: =D15-(D15*$G$1) -> 36.39 | F15: шт. | G15: 8539520000 | H15: 2 роки | I15: 1 | J15: - | K15: 100 | L15: =IFERROR(VLOOKUP(B15,Харків!A:C,3,0),"0") -> >50 | N15: =E15*M15 -> 0
B16: TNSy5000038 | C16: Лампа світлодіодна LED Bulb-C37-6W-E27-220V-4000K-540L ICCD | D16: 36.39 | E16: =D16-(D16*$G$1) -> 36.39 | F16: шт. | G16: 8543709000 | H16: 2 роки | I16: 1 | J16: - | K16: 100 | L16: =IFERROR(VLOOKUP(B16,Харків!A:C,3,0),"0") -> >50 | N16: =E16*M16 -> 0
C17: Лампи LED G45 (Е27) SILVER
B18: TNSy5000607 | C18: Лампа світлодіодна LED Bulb-G45-5W-E27-220V-6500K-450L SILVER | D18: 34.36 | E18: =D18-(D18*$G$1) -> 34.36 | F18: шт. | G18: 8539520000 | H18: 1 рік | I18: 1 | J18: - | K18: 100 | L18: =IFERROR(VLOOKUP(B18,Харків!A:C,3,0),"0") -> 0 | N18: =E18*M18 -> 0
B19: TNSy5000600 | C19: Лампа світлодіодна LED Bulb-G45-5W-E27-220V-4000K-450L SILVER | D19: 34.36 | E19: =D19-(D19*$G$1) -> 34.36 | F19: шт. | G19: 8539520000 | H19: 1 рік | I19: 1 | J19: - | K19: 100 | L19: =IFERROR(VLOOKUP(B19,Харків!A:C,3,0),"0") -> 10 | N19: =E19*M19 -> 0
B20: TNSy5000608 | C20: Лампа світлодіодна LED Bulb-G45-7W-E27-220V-6500K-630L SILVER | D20: 36.32 | E20: =D20-(D20*$G$1) -> 36.32 | F20: шт. | G20: 8539520000 | H20: 1 рік | I20: 1 | J20: - | K20: 100 | L20: =IFERROR(VLOOKUP(B20,Харків!A:C,3,0),"0") -> >20 | N20: =E20*M20 -> 0
B21: TNSy5000601 | C21: Лампа світлодіодна LED Bulb-G45-7W-E27-220V-4000K-630L SILVER | D21: 36.32 | E21: =D21-(D21*$G$1) -> 36.32 | F21: шт. | G21: 8539520000 | H21: 1 рік | I21: 1 | J21: - | K21: 100 | L21: =IFERROR(VLOOKUP(B21,Харків!A:C,3,0),"0") -> >100 | N21: =E21*M21 -> 0
C22: Лампи LED G45 (Е27) GOLDEN
B23: TNSy5000245 | C23: Лампа світлодіодна LED Bulb-G45-5W-E27-220V-6500K-530L GOLDEN | D23: 38.18 | E23: =D23-(D23*$G$1) -> 38.18 | F23: шт. | G23: 8539520000 | H23: 2 роки | I23: 1 | J23: - | K23: 100 | L23: =IFERROR(VLOOKUP(B23,Харків!A:C,3,0),"0") -> 0 | N23: =E23*M23 -> 0
B24: TNSy5000037 | C24: Лампа світлодіодна LED Bulb-G45-5W-E27-220V-4000K-530L GOLDEN | D24: 38.18 | E24: =D24-(D24*$G$1) -> 38.18 | F24: шт. | G24: 8539520000 | H24: 2 роки | I24: 1 | J24: - | K24: 100 | L24: =IFERROR(VLOOKUP(B24,Харків!A:C,3,0),"0") -> >200 | N24: =E24*M24 -> 0
B25: TNSy5000251 | C25: Лампа світлодіодна LED Bulb-G45-7W-E27-220V-6500K-740L GOLDEN | D25: 40.36 | E25: =D25-(D25*$G$1) -> 40.36 | F25: шт. | G25: 8543709000 | H25: 2 роки | I25: 1 | J25: - | K25: 100 | L25: =IFERROR(VLOOKUP(B25,Харків!A:C,3,0),"0") -> >100 | N25: =E25*M25 -> 0
B26: TNSy5000036 | C26: Лампа світлодіодна LED Bulb-G45-7W-E27-220V-4000K-740L GOLDEN | D26: 40.36 | E26: =D26-(D26*$G$1) -> 40.36 | F26: шт. | G26: 8539520000 | H26: 2 роки | I26: 1 | J26: - | K26: 100 | L26: =IFERROR(VLOOKUP(B26,Харків!A:C,3,0),"0") -> >400 | N26: =E26*M26 -> 0
C27: Лампи LED A60 (Е27) SILVER
B28: TNSy5000609 | C28: Лампа світлодіодна LED Bulb-A60-9W-E27-220V-6500K-810L SILVER | D28: 37.96 | E28: =D28-(D28*$G$1) -> 37.96 | F28: шт. | G28: 8539520000 | H28: 1 рік | I28: 1 | J28: - | K28: 100 | L28: =IFERROR(VLOOKUP(B28,Харків!A:C,3,0),"0") -> 0 | N28: =E28*M28 -> 0
B29: TNSy5000602 | C29: Лампа світлодіодна LED Bulb-A60-9W-E27-220V-4000K-810L SILVER | D29: 37.96 | E29: =D29-(D29*$G$1) -> 37.96 | F29: шт. | G29: 8539520000 | H29: 1 рік | I29: 1 | J29: - | K29: 100 | L29: =IFERROR(VLOOKUP(B29,Харків!A:C,3,0),"0") -> >50 | N29: =E29*M29 -> 0
B30: TNSy5000611 | C30: Лампа світлодіодна LED Bulb-A60-12W-E27-220V-6500K-1100L SILVER | D30: 42.9 | E30: =D30-(D30*$G$1) -> 42.9 | F30: шт. | G30: 8539520000 | H30: 1 рік | I30: 1 | J30: - | K30: 100 | L30: =IFERROR(VLOOKUP(B30,Харків!A:C,3,0),"0") -> >50 | N30: =E30*M30 -> 0
B31: TNSy5000604 | C31: Лампа світлодіодна LED Bulb-A60-12W-E27-220V-4000K-1100L SILVER | D31: 42.9 | E31: =D31-(D31*$G$1) -> 42.9 | F31: шт. | G31: 8539520000 | H31: 1 рік | I31: 1 | J31: - | K31: 100 | L31: =IFERROR(VLOOKUP(B31,Харків!A:C,3,0),"0") -> >200 | N31: =E31*M31 -> 0
B32: TNSy5000612 | C32: Лампа світлодіодна LED Bulb-A60-15W-E27-220V-6500K-1350L SILVER | D32: 51.9 | E32: =D32-(D32*$G$1) -> 51.9 | F32: шт. | G32: 8539520000 | H32: 1 рік | I32: 1 | J32: - | K32: 100 | L32: =IFERROR(VLOOKUP(B32,Харків!A:C,3,0),"0") -> 0 | N32: =E32*M32 -> 0
B33: TNSy5000605 | C33: Лампа світлодіодна LED Bulb-A60-15W-E27-220V-4000K-1350L SILVER | D33: 51.9 | E33: =D33-(D33*$G$1) -> 51.9 | F33: шт. | G33: 8543709000 | H33: 1 рік | I33: 1 | J33: - | K33: 100 | L33: =IFERROR(VLOOKUP(B33,Харків!A:C,3,0),"0") -> >50 | N33: =E33*M33 -> 0
B34: TNSy5000613 | C34: Лампа світлодіодна LED Bulb-A60-20W-E27-220V-6500K-1800L SILVER | D34: 69.7 | E34: =D34-(D34*$G$1) -> 69.7 | F34: шт. | G34: 8543709000 | H34: 1 рік | I34: 1 | J34: - | K34: 100 | L34: =IFERROR(VLOOKUP(B34,Харків!A:C,3,0),"0") -> >50 | N34: =E34*M34 -> 0
B35: TNSy5000606 | C35: Лампа світлодіодна LED Bulb-A60-20W-E27-220V-4000K-1800L SILVER | D35: 69.7 | E35: =D35-(D35*$G$1) -> 69.7 | F35: шт. | G35: 8539520000 | H35: 1 рік | I35: 1 | J35: - | K35: 100 | L35: =IFERROR(VLOOKUP(B35,Харків!A:C,3,0),"0") -> >200 | N35: =E35*M35 -> 0
C36: Лампи LED A60, A80 (Е27) GOLDEN
B37: TNSy5000254 | C37: Лампа світлодіодна LED Bulb-A60-9W-E27-220V-6500K-950L GOLDEN | D37: 42.18 | E37: =D37-(D37*$G$1) -> 42.18 | F37: шт. | G37: 8539520000 | H37: 2 роки | I37: 1 | J37: - | K37: 100 | L37: =IFERROR(VLOOKUP(B37,Харків!A:C,3,0),"0") -> >500 | N37: =E37*M37 -> 0
B38: TNSy5000040 | C38: Лампа світлодіодна LED Bulb-A60-9W-E27-220V-4000K-950L GOLDEN | D38: 42.18 | E38: =D38-(D38*$G$1) -> 42.18 | F38: шт. | G38: 8539520000 | H38: 2 роки | I38: 1 | J38: - | K38: 100 | L38: =IFERROR(VLOOKUP(B38,Харків!A:C,3,0),"0") -> >1000 | N38: =E38*M38 -> 0
B39: TNSy5000255 | C39: Лампа світлодіодна LED Bulb-A60-12W-E27-220V-6500K-1260 GOLDEN | D39: 50.47 | E39: =D39-(D39*$G$1) -> 50.47 | F39: шт. | G39: 8539520000 | H39: 2 роки | I39: 1 | J39: - | K39: 100 | L39: =IFERROR(VLOOKUP(B39,Харків!A:C,3,0),"0") -> >1000 | N39: =E39*M39 -> 0
B40: TNSy5000041 | C40: Лампа світлодіодна LED Bulb-A60-12W-E27-220V-4000K-1260 GOLDEN | D40: 50.47 | E40: =D40-(D40*$G$1) -> 50.47 | F40: шт. | G40: 8543709000 | H40: 2 роки | I40: 1 | J40: - | K40: 100 | L40: =IFERROR(VLOOKUP(B40,Харків!A:C,3,0),"0") -> 1 | N40: =E40*M40 -> 0
B41: TNSy5000256 | C41: Лампа світлодіодна LED Bulb-A60-15W-E27-220V-6500K-1580 GOLDEN | D41: 61.06 | E41: =D41-(D41*$G$1) -> 61.06 | F41: шт. | G41: 8539520000 | H41: 2 роки | I41: 1 | J41: - | K41: 100 | L41: =IFERROR(VLOOKUP(B41,Харків!A:C,3,0),"0") -> >1000 | N41: =E41*M41 -> 0
...

Sheet Зміна прайсових цін
B1: ЗМІСТ | D1: БЦ до 19.08.2026 | E1: БЦ з 19.08.2026 | F1: %
A2: Фото | B2: Індекс | C2: Назва | D2: Прайс ціна грн. з ПДВ | E2: Прайс ціна грн. з ПДВ
C3: Лампи LED A60 (AC/DC 12-48V) (Е27)
B4: TNSy5000554 | C4: Лампа світлодіодна LED Bulb A60-9W-E27-(AC/DC 12-48V)-6500K-810L ICCD | D4: 98.86 | E4: =IFERROR(VLOOKUP(B4,'Techno Systems'!B:D,3,0),"") -> 103.8 | F4: =IFERROR(E4/D4-1,0) -> 0.049969654
B5: TNSy5000085 | C5: Лампа світлодіодна LED Bulb A60-9W-E27-(AC/DC 12-48V)-4000K-810L ICCD | D5: 98.86 | E5: =IFERROR(VLOOKUP(B5,'Techno Systems'!B:D,3,0),"") -> 103.8 | F5: =IFERROR(E5/D5-1,0) -> 0.049969654
C6: Лампа LED Bulb-MX-A60 (Е27) (з мікрохвильовим датчиком руху 360гр. 6м.)
B7: TNSy5001264 | C7: Лампа світлодіодна LED Bulb-MX-A60-9W-E27-230V-6500K-810L (з мікрохвильовим датчиком руху 360гр. 6м.) | D7: 183 | E7: =IFERROR(VLOOKUP(B7,'Techno Systems'!B:D,3,0),"") -> 183 | F7: =IFERROR(E7/D7-1,0) -> 0
C8: Лампа LED MR16 (GU5.3)
B9: TNSy5000047 | C9: Лампа світлодіодна LED MR16-5W-GU5.3-220V-4000K-450L ICCD | D9: 41.18 | E9: =IFERROR(VLOOKUP(B9,'Techno Systems'!B:D,3,0),"") -> 41.18 | F9: =IFERROR(E9/D9-1,0) -> 0
C10: Лампи LED C37 (Е14, Е27) SILVER / GOLDEN
B11: TNSy5000812 | C11: Лампа світлодіодна LED Bulb-C37-8W-E14-220V-4000K-720L SILVER | D11: 29.11 | E11: =IFERROR(VLOOKUP(B11,'Techno Systems'!B:D,3,0),"") -> 29.11 | F11: =IFERROR(E11/D11-1,0) -> 0
B13: TNSy5000253 | C13: Лампа світлодіодна LED Bulb-C37-6W-E14-220V-6500K-630L GOLDEN | D13: 32.56 | E13: =IFERROR(VLOOKUP(B13,'Techno Systems'!B:D,3,0),"") -> 32.56 | F13: =IFERROR(E13/D13-1,0) -> 0
B14: TNSy5000039 | C14: Лампа світлодіодна LED Bulb-C37-6W-E14-220V-4000K-540L ICCD | D14: 32.56 | E14: =IFERROR(VLOOKUP(B14,'Techno Systems'!B:D,3,0),"") -> 32.56 | F14: =IFERROR(E14/D14-1,0) -> 0
B15: TNSy5000252 | C15: Лампа світлодіодна LED Bulb-C37-6W-E27-220V-6500K-630L GOLDEN | D15: 36.39 | E15: =IFERROR(VLOOKUP(B15,'Techno Systems'!B:D,3,0),"") -> 36.39 | F15: =IFERROR(E15/D15-1,0) -> 0
B16: TNSy5000038 | C16: Лампа світлодіодна LED Bulb-C37-6W-E27-220V-4000K-540L ICCD | D16: 36.39 | E16: =IFERROR(VLOOKUP(B16,'Techno Systems'!B:D,3,0),"") -> 36.39 | F16: =IFERROR(E16/D16-1,0) -> 0
C17: Лампи LED G45 (Е27) SILVER
B18: TNSy5000607 | C18: Лампа світлодіодна LED Bulb-G45-5W-E27-220V-6500K-450L SILVER | D18: 34.36 | E18: =IFERROR(VLOOKUP(B18,'Techno Systems'!B:D,3,0),"") -> 34.36 | F18: =IFERROR(E18/D18-1,0) -> 0
B19: TNSy5000600 | C19: Лампа світлодіодна LED Bulb-G45-5W-E27-220V-4000K-450L SILVER | D19: 34.36 | E19: =IFERROR(VLOOKUP(B19,'Techno Systems'!B:D,3,0),"") -> 34.36 | F19: =IFERROR(E19/D19-1,0) -> 0
B20: TNSy5000608 | C20: Лампа світлодіодна LED Bulb-G45-7W-E27-220V-6500K-630L SILVER | D20: 36.32 | E20: =IFERROR(VLOOKUP(B20,'Techno Systems'!B:D,3,0),"") -> 36.32 | F20: =IFERROR(E20/D20-1,0) -> 0
B21: TNSy5000601 | C21: Лампа світлодіодна LED Bulb-G45-7W-E27-220V-4000K-630L SILVER | D21: 36.32 | E21: =IFERROR(VLOOKUP(B21,'Techno Systems'!B:D,3,0),"") -> 36.32 | F21: =IFERROR(E21/D21-1,0) -> 0
C22: Лампи LED G45 (Е27) GOLDEN
B23: TNSy5000245 | C23: Лампа світлодіодна LED Bulb-G45-5W-E27-220V-6500K-530L GOLDEN | D23: 38.18 | E23: =IFERROR(VLOOKUP(B23,'Techno Systems'!B:D,3,0),"") -> 38.18 | F23: =IFERROR(E23/D23-1,0) -> 0
B24: TNSy5000037 | C24: Лампа світлодіодна LED Bulb-G45-5W-E27-220V-4000K-530L GOLDEN | D24: 38.18 | E24: =IFERROR(VLOOKUP(B24,'Techno Systems'!B:D,3,0),"") -> 38.18 | F24: =IFERROR(E24/D24-1,0) -> 0
B25: TNSy5000251 | C25: Лампа світлодіодна LED Bulb-G45-7W-E27-220V-6500K-740L GOLDEN | D25: 40.36 | E25: =IFERROR(VLOOKUP(B25,'Techno Systems'!B:D,3,0),"") -> 40.36 | F25: =IFERROR(E25/D25-1,0) -> 0
B26: TNSy5000036 | C26: Лампа світлодіодна LED Bulb-G45-7W-E27-220V-4000K-740L GOLDEN | D26: 40.36 | E26: =IFERROR(VLOOKUP(B26,'Techno Systems'!B:D,3,0),"") -> 40.36 | F26: =IFERROR(E26/D26-1,0) -> 0
C27: Лампи LED A60 (Е27) SILVER
B28: TNSy5000609 | C28: Лампа світлодіодна LED Bulb-A60-9W-E27-220V-6500K-810L SILVER | D28: 37.96 | E28: =IFERROR(VLOOKUP(B28,'Techno Systems'!B:D,3,0),"") -> 37.96 | F28: =IFERROR(E28/D28-1,0) -> 0
B29: TNSy5000602 | C29: Лампа світлодіодна LED Bulb-A60-9W-E27-220V-4000K-810L SILVER | D29: 37.96 | E29: =IFERROR(VLOOKUP(B29,'Techno Systems'!B:D,3,0),"") -> 37.96 | F29: =IFERROR(E29/D29-1,0) -> 0
B30: TNSy5000611 | C30: Лампа світлодіодна LED Bulb-A60-12W-E27-220V-6500K-1100L SILVER | D30: 42.9 | E30: =IFERROR(VLOOKUP(B30,'Techno Systems'!B:D,3,0),"") -> 42.9 | F30: =IFERROR(E30/D30-1,0) -> 0
B31: TNSy5000604 | C31: Лампа світлодіодна LED Bulb-A60-12W-E27-220V-4000K-1100L SILVER | D31: 42.9 | E31: =IFERROR(VLOOKUP(B31,'Techno Systems'!B:D,3,0),"") -> 42.9 | F31: =IFERROR(E31/D31-1,0) -> 0
B32: TNSy5000612 | C32: Лампа світлодіодна LED Bulb-A60-15W-E27-220V-6500K-1350L SILVER | D32: 51.9 | E32: =IFERROR(VLOOKUP(B32,'Techno Systems'!B:D,3,0),"") -> 51.9 | F32: =IFERROR(E32/D32-1,0) -> 0
B33: TNSy5000605 | C33: Лампа світлодіодна LED Bulb-A60-15W-E27-220V-4000K-1350L SILVER | D33: 51.9 | E33: =IFERROR(VLOOKUP(B33,'Techno Systems'!B:D,3,0),"") -> 51.9 | F33: =IFERROR(E33/D33-1,0) -> 0
B34: TNSy5000613 | C34: Лампа світлодіодна LED Bulb-A60-20W-E27-220V-6500K-1800L SILVER | D34: 69.7 | E34: =IFERROR(VLOOKUP(B34,'Techno Systems'!B:D,3,0),"") -> 69.7 | F34: =IFERROR(E34/D34-1,0) -> 0
B35: TNSy5000606 | C35: Лампа світлодіодна LED Bulb-A60-20W-E27-220V-4000K-1800L SILVER | D35: 69.7 | E35: =IFERROR(VLOOKUP(B35,'Techno Systems'!B:D,3,0),"") -> 69.7 | F35: =IFERROR(E35/D35-1,0) -> 0
C36: Лампи LED A60, A80 (Е27) GOLDEN
B37: TNSy5000254 | C37: Лампа світлодіодна LED Bulb-A60-9W-E27-220V-6500K-950L GOLDEN | D37: 42.18 | E37: =IFERROR(VLOOKUP(B37,'Techno Systems'!B:D,3,0),"") -> 42.18 | F37: =IFERROR(E37/D37-1,0) -> 0
B38: TNSy5000040 | C38: Лампа світлодіодна LED Bulb-A60-9W-E27-220V-4000K-950L GOLDEN | D38: 42.18 | E38: =IFERROR(VLOOKUP(B38,'Techno Systems'!B:D,3,0),"") -> 42.18 | F38: =IFERROR(E38/D38-1,0) -> 0
B39: TNSy5000255 | C39: Лампа світлодіодна LED Bulb-A60-12W-E27-220V-6500K-1260 GOLDEN | D39: 50.47 | E39: =IFERROR(VLOOKUP(B39,'Techno Systems'!B:D,3,0),"") -> 50.47 | F39: =IFERROR(E39/D39-1,0) -> 0
B40: TNSy5000041 | C40: Лампа світлодіодна LED Bulb-A60-12W-E27-220V-4000K-1260 GOLDEN | D40: 50.47 | E40: =IFERROR(VLOOKUP(B40,'Techno Systems'!B:D,3,0),"") -> 50.47 | F40: =IFERROR(E40/D40-1,0) -> 0
B41: TNSy5000256 | C41: Лампа світлодіодна LED Bulb-A60-15W-E27-220V-6500K-1580 GOLDEN | D41: 61.06 | E41: =IFERROR(VLOOKUP(B41,'Techno Systems'!B:D,3,0),"") -> 61.06 | F41: =IFERROR(E41/D41-1,0) -> 0
...

Sheet Новинки 2026р.
B1: ЗМІСТ | D1: 46125 | E1: Заплановане надходження (квартал)
A2: Фото | B2: Індекс | C2: Назва | D2: Прайс ціна грн. з ПДВ | E2: 2026р.
B4: TNSy5001257 | C4: Блок аварійного живлення EPS7 40W 1/2H bat: 11,1V 5,0A (для світильника 1-40W) | D4: =IFERROR(VLOOKUP(B4,'Techno Systems'!B:D,3,0),"") -> 1531 | E4: +
D5: =IFERROR(VLOOKUP(B5,'Techno Systems'!B:D,3,0),"")
B6: TNSy5506748 | C6: Котушка УК30 4 місця, 30м, 2Р+PЕ 3х1 IP20. з З/К та Т/З. | D6: =IFERROR(VLOOKUP(B6,'Techno Systems'!B:D,3,0),"") -> 1400 | E6: +
B7: TNSy5506750 | C7: Котушка УК50 4 місця, 50м, 2Р+PЕ 3х1 IP20. з З/К та Т/З. | D7: =IFERROR(VLOOKUP(B7,'Techno Systems'!B:D,3,0),"") -> 2150 | E7: +
B8: TNSy5506751 | C8: Котушка УК50+1 4+1 місця, 50м, 2Р+PЕ 3х1 IP20. з З/К та Т/З. | D8: =IFERROR(VLOOKUP(B8,'Techno Systems'!B:D,3,0),"") -> 2268 | E8: +
B9: TNSy5506752 | C9: Котушка УК50к 4 місця, 50м, 2Р+PЕ 3х1 IP44. з З/К та Т/З. | D9: =IFERROR(VLOOKUP(B9,'Techno Systems'!B:D,3,0),"") -> 2332 | E9: +
B10: TNSy5506753 | C10: Котушка УК50км 4 місця, 50м, 2Р+PЕ 3х1 IP44. з З/К та Т/З. | D10: =IFERROR(VLOOKUP(B10,'Techno Systems'!B:D,3,0),"") -> 2756 | E10: +
B12: TNSy5506754 | C12: Рамка УР50 для дроту | D12: =IFERROR(VLOOKUP(B12,'Techno Systems'!B:D,3,0),"") -> 25 | E12: +
B13: TNSy5506744 | C13: Подовжувач УР30 на рамці 1 місце 2Р+PE/30м 3х1,0 мм2 | D13: =IFERROR(VLOOKUP(B13,'Techno Systems'!B:D,3,0),"") -> 925 | E13: +
B14: TNSy5506745 | C14: Подовжувач УР40 на рамці 1 місце 2Р+PE/40м 3х1,0 мм2 | D14: =IFERROR(VLOOKUP(B14,'Techno Systems'!B:D,3,0),"") -> 1135 | E14: +
B15: TNSy5506746 | C15: Подовжувач УР50 на рамці 1 місце 2Р+PE/50м 3х1,0 мм3 | D15: =IFERROR(VLOOKUP(B15,'Techno Systems'!B:D,3,0),"") -> 1345 | E15: +
D16: =IFERROR(VLOOKUP(B16,'Techno Systems'!B:D,3,0),"")
B17: TNSy5900021 | C17: Затискач плашковий ПА-3-2 (12.3-14.0) | D17: =IFERROR(VLOOKUP(B17,'Techno Systems'!B:D,3,0),"") -> 290.15 | E17: +
D18: =IFERROR(VLOOKUP(B18,'Techno Systems'!B:D,3,0),"")
B19: TNSy5900051 | C19: Труба гофрована поліпропіленова, з протяжкою, НГ стійка до УФ 16, чорна,важка (10м) | D19: =IFERROR(VLOOKUP(B19,'Techno Systems'!B:D,3,0),"") -> 13.92 | E19: +
B20: TNSy5900052 | C20: Труба гофрована поліпропіленова, з протяжкою, НГ стійка до УФ 16, чорна,важка (25м) | D20: =IFERROR(VLOOKUP(B20,'Techno Systems'!B:D,3,0),"") -> 13.92 | E20: +
B21: TNSy5900053 | C21: Труба гофрована поліпропіленова, з протяжкою, НГ стійка до УФ 16, чорна,важка (50м) | D21: =IFERROR(VLOOKUP(B21,'Techno Systems'!B:D,3,0),"") -> 13.55 | E21: +
B22: TNSy5900054 | C22: Труба гофрована поліпропіленова, з протяжкою, НГ стійка до УФ 20, чорна,важка (10м) | D22: =IFERROR(VLOOKUP(B22,'Techno Systems'!B:D,3,0),"") -> 17.57 | E22: +
B23: TNSy5900055 | C23: Труба гофрована поліпропіленова, з протяжкою, НГ стійка до УФ 20, чорна,важка (25м) | D23: =IFERROR(VLOOKUP(B23,'Techno Systems'!B:D,3,0),"") -> 17.57 | E23: +
B24: TNSy5900056 | C24: Труба гофрована поліпропіленова, з протяжкою, НГ стійка до УФ 20, чорна,важка (50м) | D24: =IFERROR(VLOOKUP(B24,'Techno Systems'!B:D,3,0),"") -> 17.2 | E24: +
B25: TNSy5900057 | C25: Труба гофрована поліпропіленова, з протяжкою, НГ стійка до УФ 25, чорна,важка (10м) | D25: =IFERROR(VLOOKUP(B25,'Techno Systems'!B:D,3,0),"") -> 24.2 | E25: +
B26: TNSy5900058 | C26: Труба гофрована поліпропіленова, з протяжкою, НГ стійка до УФ 25, чорна,важка (25м) | D26: =IFERROR(VLOOKUP(B26,'Techno Systems'!B:D,3,0),"") -> 23.72 | E26: +
B27: TNSy5900042 | C27: Трубка гофрована Нерозрізна автомобільна 7,5/10,5мм (100 м) | D27: =IFERROR(VLOOKUP(B27,'Techno Systems'!B:D,3,0),"") -> 17.88 | E27: +

Sheet Замовлення TNSy
B1: 00000 | C1: Найменування клієнта | E1: кількість для замовлення
A2: № | B2: Індекс | C2: Назва | D2: Од. вим. | E2: Замовлення шт. | F2: Доступно ХАРКІВ | G2: Доступно КИЇВ | H2: Ціна | I2: ТМ | K2: № | L2: Індекс | M2: Назва | N2: Од. вим. | O2: Доступно Харків | P2: Ваша ціна грн. з ПДВ
A3: 1 | B3: =IF(AND(L:L>0),L:L,"") | C3: =IF(AND(L:L>0),M:M,"") | D3: =IF(AND(L:L>0),N:N,"") | E3: =IF(AND(L:L>0),K:K,"") | F3: =IF(AND(L:L>0),O:O,"") | H3: =IF(AND(L:L>0),P:P,"") | K3: (пусто)
A4: 2 | B4: =IF(AND(L:L>0),L:L,"") | C4: =IF(AND(L:L>0),M:M,"") | D4: =IF(AND(L:L>0),N:N,"") | E4: =IF(AND(L:L>0),K:K,"") | F4: =IF(AND(L:L>0),O:O,"") | H4: =IF(AND(L:L>0),P:P,"") | K4: Общий итог
A5: 3 | B5: =IF(AND(L:L>0),L:L,"") | C5: =IF(AND(L:L>0),M:M,"") | D5: =IF(AND(L:L>0),N:N,"") | E5: =IF(AND(L:L>0),K:K,"") | F5: =IF(AND(L:L>0),O:O,"") | H5: =IF(AND(L:L>0),P:P,"")
A6: 4 | B6: =IF(AND(L:L>0),L:L,"") | C6: =IF(AND(L:L>0),M:M,"") | D6: =IF(AND(L:L>0),N:N,"") | E6: =IF(AND(L:L>0),K:K,"") | F6: =IF(AND(L:L>0),O:O,"") | H6: =IF(AND(L:L>0),P:P,"")
A7: 5 | B7: =IF(AND(L:L>0),L:L,"") | C7: =IF(AND(L:L>0),M:M,"") | D7: =IF(AND(L:L>0),N:N,"") | E7: =IF(AND(L:L>0),K:K,"") | F7: =IF(AND(L:L>0),O:O,"") | H7: =IF(AND(L:L>0),P:P,"")
A8: 6 | B8: =IF(AND(L:L>0),L:L,"") | C8: =IF(AND(L:L>0),M:M,"") | D8: =IF(AND(L:L>0),N:N,"") | E8: =IF(AND(L:L>0),K:K,"") | F8: =IF(AND(L:L>0),O:O,"") | H8: =IF(AND(L:L>0),P:P,"")
A9: 7 | B9: =IF(AND(L:L>0),L:L,"") | C9: =IF(AND(L:L>0),M:M,"") | D9: =IF(AND(L:L>0),N:N,"") | E9: =IF(AND(L:L>0),K:K,"") | F9: =IF(AND(L:L>0),O:O,"") | H9: =IF(AND(L:L>0),P:P,"")
A10: 8 | B10: =IF(AND(L:L>0),L:L,"") | C10: =IF(AND(L:L>0),M:M,"") | D10: =IF(AND(L:L>0),N:N,"") | E10: =IF(AND(L:L>0),K:K,"") | F10: =IF(AND(L:L>0),O:O,"") | H10: =IF(AND(L:L>0),P:P,"")
A11: 9 | B11: =IF(AND(L:L>0),L:L,"") | C11: =IF(AND(L:L>0),M:M,"") | D11: =IF(AND(L:L>0),N:N,"") | E11: =IF(AND(L:L>0),K:K,"") | F11: =IF(AND(L:L>0),O:O,"") | H11: =IF(AND(L:L>0),P:P,"")
A12: 10 | B12: =IF(AND(L:L>0),L:L,"") | C12: =IF(AND(L:L>0),M:M,"") | D12: =IF(AND(L:L>0),N:N,"") | E12: =IF(AND(L:L>0),K:K,"") | F12: =IF(AND(L:L>0),O:O,"") | H12: =IF(AND(L:L>0),P:P,"")
A13: 11 | B13: =IF(AND(L:L>0),L:L,"") | C13: =IF(AND(L:L>0),M:M,"") | D13: =IF(AND(L:L>0),N:N,"") | E13: =IF(AND(L:L>0),K:K,"") | F13: =IF(AND(L:L>0),O:O,"") | H13: =IF(AND(L:L>0),P:P,"")
A14: 12 | B14: =IF(AND(L:L>0),L:L,"") | C14: =IF(AND(L:L>0),M:M,"") | D14: =IF(AND(L:L>0),N:N,"") | E14: =IF(AND(L:L>0),K:K,"") | F14: =IF(AND(L:L>0),O:O,"") | H14: =IF(AND(L:L>0),P:P,"")
A15: 13 | B15: =IF(AND(L:L>0),L:L,"") | C15: =IF(AND(L:L>0),M:M,"") | D15: =IF(AND(L:L>0),N:N,"") | E15: =IF(AND(L:L>0),K:K,"") | F15: =IF(AND(L:L>0),O:O,"") | H15: =IF(AND(L:L>0),P:P,"")
A16: 14 | B16: =IF(AND(L:L>0),L:L,"") | C16: =IF(AND(L:L>0),M:M,"") | D16: =IF(AND(L:L>0),N:N,"") | E16: =IF(AND(L:L>0),K:K,"") | F16: =IF(AND(L:L>0),O:O,"") | H16: =IF(AND(L:L>0),P:P,"")
... A102: 100 | B102: =IF(AND(L:L>0),L:L,"") | C102: =IF(AND(L:L>0),M:M,"") | D102: =IF(AND(L:L>0),N:N,"") | E102: =IF(AND(L:L>0),K:K,"") | F102: =IF(AND(L:L>0),O:O,"") | H102: =IF(AND(L:L>0),P:P,"")

Sheet Харків
A1: Індекс | B1: Назва | C1: Доступно Харків | D1: 1
A2: TNSy5900058 | B2: Труба гофрована поліпропіленова, з протяжкою, НГ стійка до УФ 25, чорна,важка (25м) | C2: >500 | D2: TNSy 5901 (ДКС)
A3: TNSy5900057 | B3: Труба гофрована поліпропіленова, з протяжкою, НГ стійка до УФ 25, чорна,важка (10м) | C3: >50 | D3: TNSy 5901 (ДКС)
A4: TNSy5900056 | B4: Труба гофрована поліпропіленова, з протяжкою, НГ стійка до УФ 20, чорна,важка (50м) | C4: >500 | D4: TNSy 5901 (ДКС)
A5: TNSy5900055 | B5: Труба гофрована поліпропіленова, з протяжкою, НГ стійка до УФ 20, чорна,важка (25м) | C5: >500 | D5: TNSy 5901 (ДКС)
A6: TNSy5900054 | B6: Труба гофрована поліпропіленова, з протяжкою, НГ стійка до УФ 20, чорна,важка (10м) | C6: >50 | D6: TNSy 5901 (ДКС)
A7: TNSy5900053 | B7: Труба гофрована поліпропіленова, з протяжкою, НГ стійка до УФ 16, чорна,важка (50м) | C7: >500 | D7: TNSy 5901 (ДКС)
A8: TNSy5900052 | B8: Труба гофрована поліпропіленова, з протяжкою, НГ стійка до УФ 16, чорна,важка (25м) | C8: >500 | D8: TNSy 5901 (ДКС)
A9: TNSy5900051 | B9: Труба гофрована поліпропіленова, з протяжкою, НГ стійка до УФ 16, чорна,важка (10м) | C9: >50 | D9: TNSy 5901 (ДКС)
A10: TNSy5900050 | B10: Кронштейн КСУР Ф50мм з регульованим кутом нахилу довжина 350мм | C10: 0 | D10: TNSy 5901 (ДКС)
A11: TNSy5900043 | B11: TNSy5900043 Затискач відгалужувальний У859М (50-70/4-35 мм2) | C11: 0 | D11: TNSy 5901 (ДКС)
A12: TNSy5900042 | B12: Трубка гофрована Нерозрізна автомобільна 7,5/10,5мм (100 м) | C12: 0 | D12: TNSy 5901 (ДКС)
A13: TNSy5900041 | B13: Трубка гофрована Нерозрізна автомобільна 17/21,5мм (100 м) | C13: >20 | D13: TNSy 5901 (ДКС)
A14: TNSy5900040 | B14: Трубка гофрована розрізна автомобільна 17/21,5мм (100 м) | C14: 0 | D14: TNSy 5901 (ДКС)
A15: TNSy5900039 | B15: Трубка гофрована Нерозрізна автомобільна 11/14мм (100 м) | C15: >100 | D15: TNSy 5901 (ДКС)
A16: TNSy5900038 | B16: Трубка гофрована розрізна автомобільна 11/14мм (150 м) | C16: >100 | D16: TNSy 5901 (ДКС)
A17: TNSy5900037 | B17: Трубка гофрована розрізна автомобільна 7,5/10,5мм (100 м) | C17: >50 | D17: TNSy 5901 (ДКС)
A18: TNSy5900036 | B18: Труба гладка жорстка електротехнічна Ø50 мм, 2 м (з'єднання "папа-мама") | C18: 0 | D18: TNSy 5901 (ДКС)
A19: TNSy5900035 | B19: Труба гладка жорстка електротехнічна Ø40 мм, 2 м (з'єднання "папа-мама") | C19: 0 | D19: TNSy 5901 (ДКС)
A20: TNSy5900034 | B20: Труба гладка жорстка електротехнічна Ø32 мм, 2 м (з'єднання "папа-мама") | C20: >50 | D20: TNSy 5901 (ДКС)
A21: TNSy5900033 | B21: Труба гладка жорстка електротехнічна Ø25 мм, 2 м (з'єднання "папа-мама") | C21: >100 | D21: TNSy 5901 (ДКС)
A22: TNSy5900032 | B22: Труба гладка жорстка електротехнічна Ø20 мм, 2 м (з'єднання "папа-мама") | C22: >200 | D22: TNSy 5901 (ДКС)
A23: TNSy5900031 | B23: Труба гладка жорстка електротехнічна Ø16 мм, 2 м (з'єднання "папа-мама") | C23: >100 | D23: TNSy 5901 (ДКС)
A24: TNSy5900021 | B24: Затискач плашковий ПА-3-2 (12.3-14.0) | C24: 0 | D24: TNSy 5901 (ДКС)
A25: TNSy5900020 | B25: Затискач плашковий ПА-2-1 (9.6-12.3) | C25: >20 | D25: TNSy 5901 (ДКС)
A26: TNSy5900019 | B26: Фасадне кріплення ZCZD-1 (КФК) | C26: >20 | D26: TNSy 5901 (ДКС)
A27: TNSy5900018 | B27: Фасадне кріплення ZCZD-3 (КФК) | C27: >20 | D27: TNSy 5901 (ДКС)
A28: TNSy5900017 | B28: Кронштейн універсальний Ф50-350-30* для консольного світильника (30 град.) | C28: 0 | D28: TNSy 5901 (ДКС)
A29: TNSy5900016 | B29: Затискач проколюючий 16-95/16-95 | C29: >100 | D29: TNSy 5901 (ДКС)
A30: TNSy5900015 | B30: Затискач анкерний ZAS 4x150-240 | C30: 0 | D30: TNSy 5901 (ДКС)
A31: TNSy5900014 | B31: Кронштейн універсальний Ф50-350-45* для консольного світильника (45 град.) | C31: >10 | D31: TNSy 5901 (ДКС)
A32: TNSy5900012 | B32: Затискач з'єднувальний плашковий ПА-1-1 (5.1-9.6) | C32: >20 | D32: TNSy 5901 (ДКС)
A33: TNSy5900011 | B33: Затискач проколюючий KWEP-B (16-95/1,5-10) | C33: >50 | D33: TNSy 5901 (ДКС)
A34: TNSy5900010 | B34: Затискач проколюючий 6-35/16-70 | C34: 0 | D34: TNSy 5901 (ДКС)
A35: TNSy5900009 | B35: Крюк європейський універсальний КЕ 3Т | C35: >100 | D35: TNSy 5901 (ДКС)
A36: TNSy5900008 | B36: Затискач підтримуючий ZP 4х16-95 | C36: >50 | D36: TNSy 5901 (ДКС)
A37: TNSy5900007 | B37: Затискач силовий ZC 4х25-50 | C37: >20 | D37: TNSy 5901 (ДКС)
A38: TNSy5900006 | B38: Затискач силовий ZC 2х25-50 | C38: >10 | D38: TNSy 5901 (ДКС)
A39: TNSy5900005 | B39: Затискач анкерний ZA 4х50-120 | C39: >10 | D39: TNSy 5901 (ДКС)
A40: TNSy5900004 | B40: Затискач анкерний ZA 4х35-95 | C40: >10 | D40: TNSy 5901 (ДКС)
...

Sheet Знято з виробництва
B1: ЗМІСТ | D1: Знято з виробництва
B2: Індекс | C2: Назва
B3: TNSy5504925/1 | C3: Скоба оцинкована однолапкова СОО-17 d15-17мм 14/0,8мм МР12 (20шт/пак) | D3: TNSy знятий з виробництва
B4: TNSy5504929/1 | C4: Скоба оцинкована однолапкова СОО-17 PRO d15-17мм 14/1мм МР12 (20шт/пак) | D4: TNSy знятий з виробництва
B5: TNSy5504926/1 | C5: Скоба оцинкована однолапкова СОО-21 d19-21мм 14/0,8мм МР15 (20шт/пак) | D5: TNSy знятий з виробництва
B6: TNSy5504930/1 | C6: Скоба оцинкована однолапкова СОО-21 PRO d19-21мм 14/1мм МР15 (20шт/пак) | D6: TNSy знятий з виробництва
B7: TNSy5504927/1 | C7: Скоба оцинкована однолапкова СОО-23 d21-23мм 14/0,8мм МР18 (20шт/пак) | D7: TNSy знятий з виробництва
B8: TNSy5504928/1 | C8: Скоба оцинкована однолапкова СОО-26 d24-26мм 14/0,8мм МР20/22 (20шт/пак) | D8: TNSy знятий з виробництва
B9: TNSy5504932/1 | C9: Скоба оцинкована однолапкова СОО-26 PRO d24-26мм 14/1мм МР20/22 (20шт/пак) | D9: TNSy знятий з виробництва
B10: TNSy5502634 | C10: Ізолятор SM25S М6 без болтів (25*19 6kV) | D10: TNSy знятий з виробництва
B11: TNSy5502635 | C11: Ізолятор SM25S М6 з болтом (25*19 6kV) | D11: TNSy знятий з виробництва
B12: TNSy5502644 | C12: Ізолятор SM50 М10 без болтів (50*50 15,5kV) | D12: TNSy знятий з виробництва
B13: TNSy5502645 | C13: Ізолятор SM50 М10 з болтом (50*50 15,5kV) | D13: TNSy знятий з виробництва
B14: TNSy5501138 | C14: Ізолятор SM60 М10 без болтів (60*46 20kV) | D14: TNSy знятий з виробництва
... B416: TNSy5503283 | C416: Ковпачок термоусаджувальний 16КТк-16/8 | D416: TNSy знятий з виробництва
