Workbook
Name DIN_рейки_оцинковані: 'Зміна прайсових цін'!$C$2205
Name DIN_рейки_оцинковані: 'Techno Systems'!$C$2205
Name LED_Лінійки_для_офісних_світильників__PRISMATIC_OPAL: 'Зміна прайсових цін'!$C$431
Name LED_Лінійки_для_офісних_світильників__PRISMATIC_OPAL: 'Techno Systems'!$C$431
Name Автоматичний_вимикач_диференційного_АВДс_18_з_захистом_від_надструмів: 'Зміна прайсових цін'!$C$3129
Name Автоматичний_вимикач_диференційного_АВДс_18_з_захистом_від_надструмів: 'Techno Systems'!$C$3129
Name Автоматичний_перемикач_АВР: 'Зміна прайсових цін'!$C$3197
Name Автоматичний_перемикач_АВР: 'Techno Systems'!$C$3197
Name Автоматичний_стріпер: 'Зміна прайсових цін'!$C$2532
Name Автоматичний_стріпер: 'Techno Systems'!$C$2532
Name Автоматичні_вимикачі_1АВД_для_захисту_двигуна: 'Зміна прайсових цін'!$C$3270
Name Автоматичні_вимикачі_1АВД_для_захисту_двигуна: 'Techno Systems'!$C$3270
Name Автоматичні_вимикачі_BA18_60__1P_2P_3P_4P___х_ка_C: 'Зміна прайсових цін'!$C$3006
Name Автоматичні_вимикачі_BA18_60__1P_2P_3P_4P___х_ка_C: 'Techno Systems'!$C$3006
Name Автоматичні_вимикачі_BA27_100__1P_2P_3P_4P___х_ка_C: 'Зміна прайсових цін'!$C$3086
Name Автоматичні_вимикачі_BA27_100__1P_2P_3P_4P___х_ка_C: 'Techno Systems'!$C$3086
Name Автоматичні_вимикачі_ВА88: 'Зміна прайсових цін'!$C$2923
Name Автоматичні_вимикачі_ВА88: 'Techno Systems'!$C$2923
Name Аксесуари_для_ВА18_60: 'Зміна прайсових цін'!$C$3083
Name Аксесуари_для_ВА18_60: 'Techno Systems'!$C$3083
Name Аксесуари_для_ВА88: 'Зміна прайсових цін'!$C$2982
Name Аксесуари_для_ВА88: 'Techno Systems'!$C$2982
Name Аксесуари_для_ВР32: 'Зміна прайсових цін'!$C$2800
Name Аксесуари_для_ВР32: 'Techno Systems'!$C$2800
Name Аксесуари_для_металорукава_РЗ_ЦПнг__РЗ_Ц: 'Зміна прайсових цін'!$C$2383
Name Аксесуари_для_металорукава_РЗ_ЦПнг__РЗ_Ц: 'Techno Systems'!$C$2383
Name Аксесуари_та_запчастини_для_ПГР_ПГПо_НГЄ__Гідравліка: 'Зміна прайсових цін'!$C$2644
Name Аксесуари_та_запчастини_для_ПГР_ПГПо_НГЄ__Гідравліка: 'Techno Systems'!$C$2644
Name Бірка_кабельна_маркувальна_У__55мм: 'Зміна прайсових цін'!$C$1894
Name Бірка_кабельна_маркувальна_У__55мм: 'Techno Systems'!$C$1894
Name Блоки_аварійного_живлення_EPS: 'Зміна прайсових цін'!$C$473
Name Блоки_аварійного_живлення_EPS: 'Techno Systems'!$C$473
Name Бокси_КМПн_1_2__2_4__3_6: 'Зміна прайсових цін'!$C$4517
Name Бокси_КМПн_1_2__2_4__3_6: 'Techno Systems'!$C$4517
Name Болти___Гайки__М6__М8: 'Зміна прайсових цін'!$C$4714
Name Болти___Гайки__М6__М8: 'Techno Systems'!$C$4714
Name Вбудована_серія_Latina: 'Зміна прайсових цін'!$C$537
Name Вбудована_серія_Latina: 'Techno Systems'!$C$537
Name Вбудована_серія_Malta: 'Зміна прайсових цін'!$C$551
Name Вбудована_серія_Malta: 'Techno Systems'!$C$551
Name Викрутки: 'Зміна прайсових цін'!$C$2508
Name Викрутки: 'Techno Systems'!$C$2508
Name Вилки: 'Зміна прайсових цін'!$C$530
Name Вилки: 'Techno Systems'!$C$530
Name Вилки_каучукові_RUBBER_IP44: 'Зміна прайсових цін'!$C$661
Name Вилки_каучукові_RUBBER_IP44: 'Techno Systems'!$C$661
Name Вилки_каучукові_RUBBER_R_B: 'Зміна прайсових цін'!$C$655
Name Вилки_каучукові_RUBBER_R_B: 'Techno Systems'!$C$655
Name Вимикач_диференційний_ПЗВ_ВД_18__УЗО___електромеханічний: 'Зміна прайсових цін'!$C$3122
Name Вимикач_диференційний_ПЗВ_ВД_18__УЗО___електромеханічний: 'Techno Systems'!$C$3122
Name Вимикач_навантаження_ВН_18___1_0: 'Зміна прайсових цін'!$C$3137
Name Вимикач_навантаження_ВН_18___1_0: 'Techno Systems'!$C$3137
Name Вимикачі_ВКИ: 'Зміна прайсових цін'!$C$4090
Name Вимикачі_ВКИ: 'Techno Systems'!$C$4090
Name Вимикачі_кінцеві_МЕ: 'Зміна прайсових цін'!$C$4095
Name Вимикачі_кінцеві_МЕ: 'Techno Systems'!$C$4095
Name Вимикачі_роз_єднувачі_ВР32И: 'Зміна прайсових цін'!$C$2752
Name Вимикачі_роз_єднувачі_ВР32И: 'Techno Systems'!$C$2752
Name Вимикачі_роз_єднувачі_ВРК_2н: 'Зміна прайсових цін'!$C$2822
Name Вимикачі_роз_єднувачі_ВРК_2н: 'Techno Systems'!$C$2822

Sheet ЗМІСТ
A1: Techno Systems | E1: Зміна прайсових цін | I1: Новинки 2025р. | M1: Замовлення TNSy | Q1: Прайс-Каталог PDF (скачати) | U1: Складські залишки | Y1: Знято з виробництва
A3: CВІТЛОТЕХНІКА | E3: ФУРНІТУРА / СИЛОВІ РОЗ'ЄМИ | I3: ЕЛ-МОНТАЖНІ ВИРОБИ | M3: ІНСТРУМЕНТИ ТА АКСЕСУАРИ | Q3: КОМУТАЦІЙНЕ ОБЛАДНАННЯ | U3: ЩИТОВЕ ОБЛАДНАННЯ | Y3: ІЗОЛЯЦІЙНІ МАТЕРІАЛИ
D4: Лампи LED A60 (AC/DC 12-48V) (Е27) | H4: Фотореле | L4: Клема КВМб 4-25мм2 ввідна для мод. обладн. | P4: Рукавички | T4: Ящики ЯРП/ЯПРП IP54 | X4: Сальники d (білі/сірі/чорні) | AB4: Стрічки ізоляційні ПВХ/ХБ/CI20
D5: Лампи LED MR16, C37 (GU5.3, Е14, Е27) | H5: Датчики руху | L5: Наконечникі плоскі С45N для АВТ.ВИМ. | P5: Рулетки | T5: Ящик із зниж. трансф. ЯТП-0,25tor | X5: Сальники PG зі спіраллю | AB5: Стрічки сигнальні "Обережно кабель"
D6: Лампи LED G45 (Е27) SILVER / GOLDEN | H6: Керамічні патрони (Е14, Е27, Е40) | L6: Наконечники луджені SC/JG/DTJG | P6: Ножі та леза сегментні | T6: Вимикачі-роз'єднувачі ВР32И | X6: Сальники PG IP68 (білі/чорні) | AB6: Спіраль монтажна СМ
D7: Лампи LED A60, A80 (Е27) SILVER / GOLDEN | H7: Перехідники (Е14, Е27, Е40) | L7: Наконечники DT | P7: Викрутки | T7: Аксесуари для ВР32И | X7: Сальники M IP68 (білі/чорні) | AB7: Кембріки зі скловолокна 15КСС
D8: Лампи LED T70-T160 (Е27, Е40) SILVER / GOLDEN | H8: Карболітові патрони Е14, Е27 | L8: Наконечники DL/DTL | P8: Плоскогубці / Бокорізи | T8: Вимикачі-роз'єднувачі ВРК-2н | X8: Сальники MG IP68 (чорні) | AB8: Трубки термоусаджувальні для шин ТТШ
D9: Лампи LED T100-T150 (Е27, Е40) GOLDEN ALUM | H9: Пластикові патрони Е14, Е27 | L9: Наконечники без ізоляції RNB/RNBS | P9: Ножиці секторні | T9: Вимикачі-роз'єднувачі РЕ | X9: Сальники PG/М IP68 (латунні) | AB9: Термоусаджувальні стрічки ТС
D10: Лампи LED Т8 SILVER (600/1200/1500) | H10: Вилки | L10: Наконечники без ізоляції ГМЛ/GL/GTL | P10: Автоматичні стріпери | T10: Вимикачі-роз'єднувачі РПБ/РПС/РБ | X10: Наклейки "БЛИСКАВКА" "ЗАЗЕМЛЕННЯ" | AB10: Термоусаджувальні рукавички ТР
D11: Лампи LED Т8 GOLDEN (600/1200/1200PRO) | H11: Вбудована серія Latina | L11: Наконечники гільзові Е/ТЕ/EN | P11: Інструменти для затягування хомутів | T11: вимикачі-роз'єднувачі ЗВР | X11: Заглушки 4 модулі (білі/сірі) | AB11: Ковпачки термоусаджувані КТк
D12: Світильники LED офісні (PRISMATIC/OPAL) | H12: Вбудована серія Malta | L12: Роз'єми FDD/FDFD/MDD | P12: Інструмент для металевих хомутів | T12: Автоматичні вимикачі ВА88 | X12: Шафи пластикові навісні КДЕ для лічильників | AB12: Термоусаджувальні трубки (в бухтах)
D13: Світильники LED офісні (PANEL-Iron Universal) (Н=20мм) | H13: Накладна серія Lemur | L13: Наконечники RV/SV/SVS | P13: Кліщі обтискні | T13: Аксесуари для ВА88 | X13: Коробки установочні d65/68 | AB13: Термоусаджувальні трубки (по 1м.)
D14: Світильники LED офісні (PANEL) (Н=30мм) | H14: Накладна серія Leon | L14: Термоусадочні гільзи та з'єднувачі SST-S/BHT | P14: Преси механічні ручні ПМР | T14: Автоматичні вимикачі BA18-60 (1P/2P/3P/4P) (х-ка C) (х-ка D) | X14: Розподільчі коробки IP55/IP65 (RAL9016) | AB14: Термоусаджувальні трубки з клеєм Н/Г (прозорі)
D15: Світильники LED офісні (PANEL-Frame) (Н=13мм) | H15: Колодки Leon | L15: З'єднувачі ЗПО/ЗІЗ | P15: Преси гідравлічні ПГР | T15: Автоматичні вимикачі BA27-100 (1P/2P/3P/4P) (х-ка C) (х-ка D) | X15: Розподільча коробка М686- IP68 | AB15: Термоусаджувальні трубки з клеєм
D16: Світильники LED офісні (PRO-LINE) (H=45мм) (5р.гар.) | H16: Колодки Lynx | L16: З'єднувачі кабельні ЗК-М (IP68) | P16: Преси для перфорації листового металу | T16: Аксесуари для ВА18-60 | X16: Колодязі кабельні пластикові ККп з кришкою
D17: Світильники LED офісні (PANEL-Round) (Н=50мм) | H17: Подовжувачі 3м/5м (3х1мм2) | L17: Клеми СМК Аксесуари для СМК | P17: Насоси НРГ/НГЕ | T17: ПЗВ ВД-18 (УЗО) | X17: Корпуси КМПн 1/2, 3/4 (без кришки)
D18: Світильники LED Downlight Deco (врізні) | H18: Розетки-таймери | L18: Клеми UTP/FTP | P18: Преси | T18: АВДс-18 | X18: Бокси КМПн 1/2, 2/4, 3/6
D19: Світильники LED Downlight (врізні) | H19: Накладна серія SURFACE IP54 (білий) | L19: Клемні колодки ТВ/ТС | P19: Трубогиб ручний гідравлічний ТРГ-25 | T19: Вимикач навантаження ВН "1-0" | X19: Корпуси пластикові ЩРВ-П/ЩРН-П (ECO)
D20: Світильники LED Downlight (накладні) | H20: Накладна серія SURFACE IP54 (сіро-чорний) | L20: Затискачі гвинтові PP | P20: Знімачі ручні гідравлічні (СГ-5т/СГ-10т) | T20: Перемикач-роз'єднувач ПРт-18/36 "1-0-2" | X20: Корпуси пластикові ЩРВ-П/ЩРН-П
D21: Світильники настільні | H21: IP66 підрозетник. зовн. устан. | L21: Затискачі гвинтові PE | P21: Столи із комплектом шинообробного обладнання СШО-150 | T21: Модульне обладнання | X21: Корпуси пластикові ЩРН-П IP65
D22: Світильники настільні акумуляторні (Mini) | H22: Вилки каучукові RUBBER R/B | L22: Шини на DIN-рейку | P22: Аксесуари та запчастини для YQK/SYK/НГЄ (Гідравліка) | T22: Лічильник 1/3F (некомер) | X22: Корпуси пластикові ЩРН-П PRO PLUS IP65
D23: Світильники LED LSO 1200 PRO ALUM (підвісний/накладний) | H23: Розетки каучукові RUBBER R/B | L23: Шини PE/N | P23: Інструмент для різання DIN-рейки | T23: Реле РНс контроль напруги та струму | X23: Корпуси пластикові ЩРН-П PRO ABS IP65
D24: Світильники LED T5 (ЛПО 1*600 / 1*1200) | H24: Вилки каучукові RUBBER IP44 | L24: Ізолятори ШЛ-ДС / ШЛ-КС | P24: Компресор | T24: Реле струму/часу/фаз | X24: Корпуси пластикові ЩМПп ABS IP65
D25: Світильники LED DHX (ЛПО 2*600 / 2*1200) | H25: Розетки каучукові RUBBER IP44 | L25: Шини «N» в корпусі / Розподільчі блоки на DIN-рейку | T25: АВР | X25: Корпуси металеві Щурн
D26: Світильники LED DHS (ЛПО 2*1200) | H26: Силові роз'єми | L26: Дюбель з металевим ударним шурупом | T26: Тримач запобіжника модульний ТЗПм-18 | X26: Корпуси металеві ЩРв/ЩРн, IP31/IP54
D27: Світильники LED LFB (ЛПП корпуси без ламп) | H27: Котушки УК10/УК20/УК30/УК40/УК50 | L27: Майданчики до хомутів МХСГ/МХГ | T27: Контактори модульні РК-КМ/КМ | X27: Корпуси металеві ЩМП/ЯРП IP54
D28: Світильники LED LPP-AS IP65 (ЛПП з LED лінійками) | L28: Кріплення ремінні КР | T28: Автоматичні вимикачі 1АВД для захисту двигуна | X28: Корпуси металеві ЩМП IP54 PRO (стаціонарні)
D29: Світильники LED LPP-DS IP65 (ЛПП з LED лінійками) | L29: Кріплення кліпса для гофри | T29: Контактори КММ/КММп | X29: Монтажний комплект на стіну для ЩМП, ЯРП, ЩРн.
D30: Світильники LED LPP-OS IP65 (ЛПП з LED лінійками) | L30: Кріплення (ялинка) кругле/плоске | T30: Контактори КММр реверс | X30: Болти / Гайки (М6, М8)
D31: Світильники LED ЖКХ (Овал/Коло) | L31: Кабельні затискачі PP/PA | T31: Додаткове обладнення до КММ/КММп | X31: Завіса потайна з отворами ЗПо-550-35
D32: Світильники НПП (коло/овал) (білі) | L32: Хомути ХС сталь нержавіюча AISI304 | T32: Реле РТ для КММ | X32: Замки до корпусів металевих
D33: Світильники НПП (коло/овал) (чорні) | L33: Хомути ХА/ХОК/Нейлон | T33: Контактори КММо | X33: Ключі до корпусів металевих
D34: Скляні матові розсіювачі для НПП | L34: Маркування кабельне МК/У | T34: Контактори КММор | X34: Заглушка пластикова ЗП-2022 для замка.
D35: Світильники Консольні LED (LJ) | L35: Муфти ПСТп/ПКВТп (до 1кВ) | T35: Контактори КМС/КМСр | X35: Круг 125х1х22 відрізний по металу
D36: Світильники Консольні LED (KJ) | L36: Аксесуари до муфт ПСТп/ПКВТп | T36: Реле РТ для КМС
D37: Світильники Консольні LED (FJ) | L37: Ізолятори SM/ІС/ШПІ (з болтом/без болтів) | T37: Додаткове обладнення до КМС
D38: Світильники Консольні LED (BJ) | L38: Шини з'єднувальні PIN/FORK (штир/вилка) | T38: Реле проміжні РП
D39: Світильники Консольні LED (SL) (Solar Light) | L39: Обмежувачі на DIN-рейки | T39: Роз'єми модульні РРП до реле РП
D40: Кронштейи для консольних світильників (30°/45°) | L40: Клеми КНГ UK/SAK | T40: Перемикач кулачковий ПКП
D41: Світильники для високих стель Led High Bay | L41: Аксесуари до Клеми КНГ | T41: Запобіжники плавкі ЗП
D42: Прожектори LED 10-200Вт (ECO Slim) | L42: Клема силова СКНГ | T42: Тримачі запобіжників плавких ТЗП
D43: Прожектори LED 10/20/30Вт (ULTRA Slim) | L43: DIN-рейки оцинковані | T43: Вольтметри AD22 Амперметри AD22 Зумери AD22
D44: Прожектори з датчиками руху 30/100Вт (ULTRA Slim) | L44: Профіль П/С/L подібний, перфорований, оцинкований. | T44: Лампи AD22DS/AD16DS
D45: Прожектори LED 10-400Вт (GOLDEN Slim) | L45: Стрічки монтажні/бандажні СМП/Сбо | T45: Лампи змінні LED BA9S
D46: Прожектори з датчиками руху LED 10/20/50Вт (GOLDEN Slim) | L46: Стрічки бандажні сталь нержавіюча AISI201 | T46: Дзвоники UC
D47: Стійки металеві СМП | L47: Скрепа бандажна | T47: Кнопки антивандальні металеві
... D59: Наклейки для світильників S504/S503 | L59: Протяжки для кабелю ПКн/ПКнК | T59: Перемикачі KCD
D60: Комплект підвісу панелей | T60: Реле твердотільні SSR
D61: Рамки для офісних світильників (metal/plast/alum)
D62: Розсіювачі для світильників
D63: LED-Лінійки для офісних світильників
D64: Драйвери для світильників
D65: Блоки аварійного живлення EPS

Sheet Techno Systems
B1: ЗМІСТ | D1: 46253 | E1: Ваша персональна знижка | G1: 0 | H1: Гарантія | I1: мінімальна норма відвантаження | J1: уп. групова | K1: уп. транспортна | L1: Доступно на 12.08.2026 | M1: Замовлення шт. | N1: =SUM(N4:N5399) -> 0
A2: Фото | B2: Індекс | C2: Назва | D2: Прайс ціна грн. з ПДВ | E2: Ваша ціна грн. з ПДВ | F2: Од. вим. | G2: УКТЗЕД | H2: Гарантія | I2: мінімальна норма відвантаження | J2: уп. групова | K2: уп. транспортна | L2: Доступно Харків | M2: Замовлення шт. | N2: СУМА замовлення
C3: Лампи LED A60 (AC/DC 12-48V) (Е27)
B4: TNSy5000554 | C4: Лампа світлодіодна LED Bulb A60-9W-E27-(AC/DC 12-48V)-6500K-810L ICCD | D4: 103.8 | E4: =D4-(D4*$G$1) -> 103.8 | F4: шт. | G4: 8539520000 | H4: 2 роки | I4: 1 | J4: - | K4: 100 | L4: =IFERROR(VLOOKUP(B4,Харків!A:C,3,0),"0") -> 1 | N4: =E4*M4 -> 0
B5: TNSy5000085 | C5: Лампа світлодіодна LED Bulb A60-9W-E27-(AC/DC 12-48V)-4000K-810L ICCD | D5: 103.8 | E5: =D5-(D5*$G$1) -> 103.8 | F5: шт. | G5: 8539520000 | H5: 2 роки | I5: 1 | J5: - | K5: 100 | L5: =IFERROR(VLOOKUP(B5,Харків!A:C,3,0),"0") -> >1000 | N5: =E5*M5 -> 0
C6: Лампа LED Bulb-MX-A60 (Е27) (з мікрохвильовим датчиком руху 360гр. 6м.)
B7: TNSy5001264 | C7: Лампа світлодіодна LED Bulb-MX-A60-9W-E27-230V-6500K-810L (з мікрохвильовим датчиком руху 360гр. 6м.) | D7: 183 | E7: =D7-(D7*$G$1) -> 183 | F7: шт. | G7: 8539520000 | H7: 2 роки | I7: 1 | J7: - | K7: 100 | L7: =IFERROR(VLOOKUP(B7,Харків!A:C,3,0),"0") -> >50 | N7: =E7*M7 -> 0
C8: Лампа LED MR16 (GU5.3)
B9: TNSy5000047 | C9: Лампа світлодіодна LED MR16-5W-GU5.3-220V-4000K-450L ICCD | D9: 41.18 | E9: =D9-(D9*$G$1) -> 41.18 | F9: шт. | G9: 8543709000 | H9: 2 роки | I9: 1 | J9: - | K9: 100 | L9: =IFERROR(VLOOKUP(B9,Харків!A:C,3,0),"0") -> >200 | N9: =E9*M9 -> 0
C10: Лампи LED C37 (Е14, Е27) SILVER / GOLDEN
B11: TNSy5000812 | C11: Лампа світлодіодна LED Bulb-C37-8W-E14-220V-4000K-720L SILVER | D11: 29.11 | E11: =D11-(D11*$G$1) -> 29.11 | F11: шт. | G11: 8543709000 | H11: 1 рік | I11: 1 | J11: - | K11: 100 | L11: =IFERROR(VLOOKUP(B11,Харків!A:C,3,0),"0") -> >300 | N11: =E11*M11 -> 0
B13: TNSy5000253 | C13: Лампа світлодіодна LED Bulb-C37-6W-E14-220V-6500K-630L GOLDEN | D13: 32.56 | E13: =D13-(D13*$G$1) -> 32.56 | F13: шт. | G13: 8539520000 | H13: 2 роки | I13: 1 | J13: - | K13: 100 | L13: =IFERROR(VLOOKUP(B13,Харків!A:C,3,0),"0") -> >100 | N13: =E13*M13 -> 0
B14: TNSy5000039 | C14: Лампа світлодіодна LED Bulb-C37-6W-E14-220V-4000K-540L ICCD | D14: 32.56 | E14: =D14-(D14*$G$1) -> 32.56 | F14: шт. | G14: 8543709000 | H14: 2 роки | I14: 1 | J14: - | K14: 100 | L14: =IFERROR(VLOOKUP(B14,Харків!A:C,3,0),"0") -> >200 | N14: =E14*M14 -> 0
B15: TNSy5000252 | C15: Лампа світлодіодна LED Bulb-C37-6W-E27-220V-6500K-630L GOLDEN | D15: 36.39 | E15: =D15-(D15*$G$1) -> 36.39 | F15: шт. | G15: 8539520000 | H15: 2 роки | I15: 1 | J15: - | K15: 100 | L15: =IFERROR(VLOOKUP(B15,Харків!A:C,3,0),"0") -> >50 | N15: =E15*M15 -> 0
B16: TNSy5000038 | C16: Лампа світлодіодна LED Bulb-C37-6W-E27-220V-4000K-540L ICCD | D16: 36.39 | E16: =D16-(D16*$G$1) -> 36.39 | F16: шт. | G16: 8543709000 | H16: 2 роки | I16: 1 | J16: - | K16: 100 | L16: =IFERROR(VLOOKUP(B16,Харків!A:C,3,0),"0") -> >50 | N16: =E16*M16 -> 0
C17: Лампи LED G45 (Е27) SILVER
B18: TNSy5000607 | C18: Лампа світлодіодна LED Bulb-G45-5W-E27-220V-6500K-450L SILVER | D18: 34.36 | E18: =D18-(D18*$G$1) -> 34.36 | F18: шт. | G18: 8539520000 | H18: 1 рік | I18: 1 | J18: - | K18: 100 | L18: =IFERROR(VLOOKUP(B18,Харків!A:C,3,0),"0") -> 0 | N18: =E18*M18 -> 0
B19: TNSy5000600 | C19: Лампа світлодіодна LED Bulb-G45-5W-E27-220V-4000K-450L SILVER | D19: 34.36 | E19: =D19-(D19*$G$1) -> 34.36 | F19: шт. | G19: 8539520000 | H19: 1 рік | I19: 1 | J19: - | K19: 100 | L19: =IFERROR(VLOOKUP(B19,Харків!A:C,3,0),"0") -> 10 | N19: =E19*M19 -> 0
B20: TNSy5000608 | C20: Лампа світлодіодна LED Bulb-G45-7W-E27-220V-6500K-630L SILVER | D20: 36.32 | E20: =D20-(D20*$G$1) -> 36.32 | F20: шт. | G20: 8539520000 | H20: 1 рік | I20: 1 | J20: - | K20: 100 | L20: =IFERROR(VLOOKUP(B20,Харків!A:C,3,0),"0") -> >20 | N20: =E20*M20 -> 0
B21: TNSy5000601 | C21: Лампа світлодіодна LED Bulb-G45-7W-E27-220V-4000K-630L SILVER | D21: 36.32 | E21: =D21-(D21*$G$1) -> 36.32 | F21: шт. | G21: 8539520000 | H21: 1 рік | I21: 1 | J21: - | K21: 100 | L21: =IFERROR(VLOOKUP(B21,Харків!A:C,3,0),"0") -> >100 | N21: =E21*M21 -> 0
C22: Лампи LED G45 (Е27) GOLDEN
B23: TNSy5000245 | C23: Лампа світлодіодна LED Bulb-G45-5W-E27-220V-6500K-530L GOLDEN | D23: 38.18 | E23: =D23-(D23*$G$1) -> 38.18 | F23: шт. | G23: 8539520000 | H23: 2 роки | I23: 1 | J23: - | K23: 100 | L23: =IFERROR(VLOOKUP(B23,Харків!A:C,3,0),"0") -> 0 | N23: =E23*M23 -> 0
B24: TNSy5000037 | C24: Лампа світлодіодна LED Bulb-G45-5W-E27-220V-4000K-530L GOLDEN | D24: 38.18 | E24: =D24-(D24*$G$1) -> 38.18 | F24: шт. | G24: 8539520000 | H24: 2 роки | I24: 1 | J24: - | K24: 100 | L24: =IFERROR(VLOOKUP(B24,Харків!A:C,3,0),"0") -> >200 | N24: =E24*M24 -> 0
B25: TNSy5000251 | C25: Лампа світлодіодна LED Bulb-G45-7W-E27-220V-6500K-740L GOLDEN | D25: 40.36 | E25: =D25-(D25*$G$1) -> 40.36 | F25: шт. | G25: 8543709000 | H25: 2 роки | I25: 1 | J25: - | K25: 100 | L25: =IFERROR(VLOOKUP(B25,Харків!A:C,3,0),"0") -> >100 | N25: =E25*M25 -> 0
B26: TNSy5000036 | C26: Лампа світлодіодна LED Bulb-G45-7W-E27-220V-4000K-740L GOLDEN | D26: 40.36 | E26: =D26-(D26*$G$1) -> 40.36 | F26: шт. | G26: 8539520000 | H26: 2 роки | I26: 1 | J26: - | K26: 100 | L26: =IFERROR(VLOOKUP(B26,Харків!A:C,3,0),"0") -> >400 | N26: =E26*M26 -> 0
C27: Лампи LED A60 (Е27) SILVER
B28: TNSy5000609 | C28: Лампа світлодіодна LED Bulb-A60-9W-E27-220V-6500K-810L SILVER | D28: 37.96 | E28: =D28-(D28*$G$1) -> 37.96 | F28: шт. | G28: 8539520000 | H28: 1 рік | I28: 1 | J28: - | K28: 100 | L28: =IFERROR(VLOOKUP(B28,Харків!A:C,3,0),"0") -> 0 | N28: =E28*M28 -> 0
B29: TNSy5000602 | C29: Лампа світлодіодна LED Bulb-A60-9W-E27-220V-4000K-810L SILVER | D29: 37.96 | E29: =D29-(D29*$G$1) -> 37.96 | F29: шт. | G29: 8539520000 | H29: 1 рік | I29: 1 | J29: - | K29: 100 | L29: =IFERROR(VLOOKUP(B29,Харків!A:C,3,0),"0") -> >50 | N29: =E29*M29 -> 0
B30: TNSy5000611 | C30: Лампа світлодіодна LED Bulb-A60-12W-E27-220V-6500K-1100L SILVER | D30: 42.9 | E30: =D30-(D30*$G$1) -> 42.9 | F30: шт. | G30: 8539520000 | H30: 1 рік | I30: 1 | J30: - | K30: 100 | L30: =IFERROR(VLOOKUP(B30,Харків!A:C,3,0),"0") -> >50 | N30: =E30*M30 -> 0
B31: TNSy5000604 | C31: Лампа світлодіодна LED Bulb-A60-12W-E27-220V-4000K-1100L SILVER | D31: 42.9 | E31: =D31-(D31*$G$1) -> 42.9 | F31: шт. | G31: 8539520000 | H31: 1 рік | I31: 1 | J31: - | K31: 100 | L31: =IFERROR(VLOOKUP(B31,Харків!A:C,3,0),"0") -> >200 | N31: =E31*M31 -> 0
B32: TNSy5000612 | C32: Лампа світлодіодна LED Bulb-A60-15W-E27-220V-6500K-1350L SILVER | D32: 51.9 | E32: =D32-(D32*$G$1) -> 51.9 | F32: шт. | G32: 8539520000 | H32: 1 рік | I32: 1 | J32: - | K32: 100 | L32: =IFERROR(VLOOKUP(B32,Харків!A:C,3,0),"0") -> 0 | N32: =E32*M32 -> 0
B33: TNSy5000605 | C33: Лампа світлодіодна LED Bulb-A60-15W-E27-220V-4000K-1350L SILVER | D33: 51.9 | E33: =D33-(D33*$G$1) -> 51.9 | F33: шт. | G33: 8543709000 | H33: 1 рік | I33: 1 | J33: - | K33: 100 | L33: =IFERROR(VLOOKUP(B33,Харків!A:C,3,0),"0") -> >50 | N33: =E33*M33 -> 0
B34: TNSy5000613 | C34: Лампа світлодіодна LED Bulb-A60-20W-E27-220V-6500K-1800L SILVER | D34: 69.7 | E34: =D34-(D34*$G$1) -> 69.7 | F34: шт. | G34: 8543709000 | H34: 1 рік | I34: 1 | J34: - | K34: 100 | L34: =IFERROR(VLOOKUP(B34,Харків!A:C,3,0),"0") -> >50 | N34: =E34*M34 -> 0
B35: TNSy5000606 | C35: Лампа світлодіодна LED Bulb-A60-20W-E27-220V-4000K-1800L SILVER | D35: 69.7 | E35: =D35-(D35*$G$1) -> 69.7 | F35: шт. | G35: 8539520000 | H35: 1 рік | I35: 1 | J35: - | K35: 100 | L35: =IFERROR(VLOOKUP(B35,Харків!A:C,3,0),"0") -> >200 | N35: =E35*M35 -> 0
C36: Лампи LED A60, A80 (Е27) GOLDEN
B37: TNSy5000254 | C37: Лампа світлодіодна LED Bulb-A60-9W-E27-220V-6500K-950L GOLDEN | D37: 42.18 | E37: =D37-(D37*$G$1) -> 42.18 | F37: шт. | G37: 8539520000 | H37: 2 роки | I37: 1 | J37: - | K37: 100 | L37: =IFERROR(VLOOKUP(B37,Харків!A:C,3,0),"0") -> >500 | N37: =E37*M37 -> 0
B38: TNSy5000040 | C38: Лампа світлодіодна LED Bulb-A60-9W-E27-220V-4000K-950L GOLDEN | D38: 42.18 | E38: =D38-(D38*$G$1) -> 42.18 | F38: шт. | G38: 8539520000 | H38: 2 роки | I38: 1 | J38: - | K38: 100 | L38: =IFERROR(VLOOKUP(B38,Харків!A:C,3,0),"0") -> >1000 | N38: =E38*M38 -> 0
B39: TNSy5000255 | C39: Лампа світлодіодна LED Bulb-A60-12W-E27-220V-6500K-1260 GOLDEN | D39: 50.47 | E39: =D39-(D39*$G$1) -> 50.47 | F39: шт. | G39: 8539520000 | H39: 2 роки | I39: 1 | J39: - | K39: 100 | L39: =IFERROR(VLOOKUP(B39,Харків!A:C,3,0),"0") -> >1000 | N39: =E39*M39 -> 0
B40: TNSy5000041 | C40: Лампа світлодіодна LED Bulb-A60-12W-E27-220V-4000K-1260 GOLDEN | D40: 50.47 | E40: =D40-(D40*$G$1) -> 50.47 | F40: шт. | G40: 8543709000 | H40: 2 роки | I40: 1 | J40: - | K40: 100 | L40: =IFERROR(VLOOKUP(B40,Харків!A:C,3,0),"0") -> 1 | N40: =E40*M40 -> 0
B41: TNSy5000256 | C41: Лампа світлодіодна LED Bulb-A60-15W-E27-220V-6500K-1580 GOLDEN | D41: 61.06 | E41: =D41-(D41*$G$1) -> 61.06 | F41: шт. | G41: 8539520000 | H41: 2 роки | I41: 1 | J41: - | K41: 100 | L41: =IFERROR(VLOOKUP(B41,Харків!A:C,3,0),"0") -> >1000 | N41: =E41*M41 -> 0
B42: TNSy5000042 | C42: Лампа світлодіодна LED Bulb-A60-15W-E27-220V-4000K-1580 GOLDEN | D42: 61.06 | E42: =D42-(D42*$G$1) -> 61.06 | F42: шт. | G42: 8543709000 | H42: 2 роки | I42: 1 | J42: - | K42: 100 | L42: =IFERROR(VLOOKUP(B42,Харків!A:C,3,0),"0") -> >500 | N42: =E42*M42 -> 0
B43: TNSy5000257 | C43: Лампа світлодіодна LED Bulb-A80-18W-E27-220V-6500K-1620L GOLDEN | D43: 101.29 | E43: =D43-(D43*$G$1) -> 101.29 | F43: шт. | G43: 8539520000 | H43: 2 роки | I43: 1 | J43: - | K43: 50 | L43: =IFERROR(VLOOKUP(B43,Харків!A:C,3,0),"0") -> 0 | N43: =E43*M43 -> 0
B44: TNSy5000043 | C44: Лампа світлодіодна LED Bulb-A80-18W-E27-220V-4000K-1620L GOLDEN | D44: 101.29 | E44: =D44-(D44*$G$1) -> 101.29 | F44: шт. | G44: 8539520000 | H44: 2 роки | I44: 1 | J44: - | K44: 50 | L44: =IFERROR(VLOOKUP(B44,Харків!A:C,3,0),"0") -> >100 | N44: =E44*M44 -> 0
C45: Лампи LED T70-T135 (Е27, Е40) SILVER
B46: TNSy5000619 | C46: Лампа світлодіодна LED Bulb-T70-30W-E27-220V-6500K-2700L SILVER | D46: 124 | E46: =D46-(D46*$G$1) -> 124 | F46: шт. | G46: 8539520000 | H46: 1 рік | I46: 1 | J46: - | K46: 50 | L46: =IFERROR(VLOOKUP(B46,Харків!A:C,3,0),"0") -> >20 | N46: =E46*M46 -> 0
B47: TNSy5000620 | C47: Лампа світлодіодна LED Bulb-T100-40W-E27-E40-220V-6500K-3600L SILVER | D47: 198 | E47: =D47-(D47*$G$1) -> 198 | F47: шт. | G47: 8539520000 | H47: 1 рік | I47: 1 | J47: - | K47: 40 | L47: =IFERROR(VLOOKUP(B47,Харків!A:C,3,0),"0") -> >10 | N47: =E47*M47 -> 0
B48: TNSy5000621 | C48: Лампа світлодіодна LED Bulb-T115-50W-E27-E40-220V-6500K-4500L SILVER | D48: 247 | E48: =D48-(D48*$G$1) -> 247 | F48: шт. | G48: 8539520000 | H48: 1 рік | I48: 1 | J48: - | K48: 40 | L48: =IFERROR(VLOOKUP(B48,Харків!A:C,3,0),"0") -> >50 | N48: =E48*M48 -> 0
B49: TNSy5000622 | C49: Лампа світлодіодна LED Bulb-T135-60W-E27-E40-220V-6500K-5400L SILVER | D49: 339.9 | E49: =D49-(D49*$G$1) -> 339.9 | F49: шт. | G49: 8539520000 | H49: 1 рік | I49: 1 | J49: - | K49: 20 | L49: =IFERROR(VLOOKUP(B49,Харків!A:C,3,0),"0") -> >20 | N49: =E49*M49 -> 0
C50: Лампи LED T80-T160 (Е27, Е40) GOLDEN
B51: TNSy5000044 | C51: Лампа світлодіодна LED Bulb-T80-20W-E27-220V-6500K-2100L GOLDEN | D51: 105.42 | E51: =D51-(D51*$G$1) -> 105.42 | F51: шт. | G51: 8539520000 | H51: 2 роки | I51: 1 | J51: - | K51: 50 | L51: =IFERROR(VLOOKUP(B51,Харків!A:C,3,0),"0") -> >300 | N51: =E51*M51 -> 0
B52: TNSy5000258 | C52: Лампа світлодіодна LED Bulb-T80-20W-E27-220V-4000K-2100L GOLDEN | D52: 105.42 | E52: =D52-(D52*$G$1) -> 105.42 | F52: шт. | G52: 8539520000 | H52: 2 роки | I52: 1 | J52: - | K52: 50 | L52: =IFERROR(VLOOKUP(B52,Харків!A:C,3,0),"0") -> >200 | N52: =E52*M52 -> 0
B53: TNSy5000045 | C53: Лампа світлодіодна LED Bulb-T100-30W-E27-220V-6500K-3150L GOLDEN | D53: 162.5 | E53: =D53-(D53*$G$1) -> 162.5 | F53: шт. | G53: 8539520000 | H53: 2 роки | I53: 1 | J53: - | K53: 40 | L53: =IFERROR(VLOOKUP(B53,Харків!A:C,3,0),"0") -> >500 | N53: =E53*M53 -> 0
B54: TNSy5000259 | C54: Лампа світлодіодна LED Bulb-T100-30W-E27-220V-4000K-3150L GOLDEN | D54: 162.5 | E54: =D54-(D54*$G$1) -> 162.5 | F54: шт. | G54: 8539520000 | H54: 2 роки | I54: 1 | J54: - | K54: 40 | L54: =IFERROR(VLOOKUP(B54,Харків!A:C,3,0),"0") -> >100 | N54: =E54*M54 -> 0
B55: TNSy5000181 | C55: Лампа світлодіодна LED Bulb-T120-40W-E27-E40-220V-6500K-4200L GOLDEN | D55: 238.26 | E55: =D55-(D55*$G$1) -> 238.26 | F55: шт. | G55: 8539520000 | H55: 2 роки | I55: 1 | J55: - | K55: 40 | L55: =IFERROR(VLOOKUP(B55,Харків!A:C,3,0),"0") -> >300 | N55: =E55*M55 -> 0
B56: TNSy5000260 | C56: Лампа світлодіодна LED Bulb-T120-40W-E27-E40-220V-4000K-4200L GOLDEN | D56: 238.26 | E56: =D56-(D56*$G$1) -> 238.26 | F56: шт. | G56: 8543709000 | H56: 2 роки | I56: 1 | J56: - | K56: 40 | L56: =IFERROR(VLOOKUP(B56,Харків!A:C,3,0),"0") -> >50 | N56: =E56*M56 -> 0
B57: TNSy5000046 | C57: Лампа світлодіодна LED Bulb-T140-50W-E27-E40-220V-6500K-5250L GOLDEN | D57: 306.08 | E57: =D57-(D57*$G$1) -> 306.08 | F57: шт. | G57: 8539520000 | H57: 2 роки | I57: 1 | J57: - | K57: 20 | L57: =IFERROR(VLOOKUP(B57,Харків!A:C,3,0),"0") -> >300 | N57: =E57*M57 -> 0
B58: TNSy5000261 | C58: Лампа світлодіодна LED Bulb-T140-50W-E27-E40-220V-4000K-5250L GOLDEN | D58: 306.08 | E58: =D58-(D58*$G$1) -> 306.08 | F58: шт. | G58: 8539520000 | H58: 2 роки | I58: 1 | J58: - | K58: 20 | L58: =IFERROR(VLOOKUP(B58,Харків!A:C,3,0),"0") -> >200 | N58: =E58*M58 -> 0
C59: Лампи LED T100-T150 (Е27, Е40) GOLDEN ALUM
B60: TNSy5000635 | C60: Лампа світлодіодна LED Bulb-T100-30W-E27-220V-6500K-3150L GOLDEN ALUM | D60: 221.83 | E60: =D60-(D60*$G$1) -> 221.83 | F60: шт. | G60: 8543709000 | H60: 2 роки | I60: 1 | J60: - | K60: 30 | L60: =IFERROR(VLOOKUP(B60,Харків!A:C,3,0),"0") -> 1 | N60: =E60*M60 -> 0
B61: TNSy5000636 | C61: Лампа світлодіодна LED Bulb-T120-40W-E27-E40-220V-6500K-4200L GOLDEN ALUM | D61: 304.11 | E61: =D61-(D61*$G$1) -> 304.11 | F61: шт. | G61: 8543709000 | H61: 2 роки | I61: 1 | J61: - | K61: 20 | L61: =IFERROR(VLOOKUP(B61,Харків!A:C,3,0),"0") -> >50 | N61: =E61*M61 -> 0
B62: TNSy5000637 | C62: Лампа світлодіодна LED Bulb-T120-50W-E27-E40-220V-6500K-5250L GOLDEN ALUM | D62: 365.24 | E62: =D62-(D62*$G$1) -> 365.24 | F62: шт. | G62: 8543709000 | H62: 2 роки | I62: 1 | J62: - | K62: 20 | L62: =IFERROR(VLOOKUP(B62,Харків!A:C,3,0),"0") -> >200 | N62: =E62*M62 -> 0
B63: TNSy5000511 | C63: Лампа світлодіодна LED Bulb-T120-60W-E27-E40-220V-6500K-6300L GOLDEN ALUM | D63: 573.01 | E63: =D63-(D63*$G$1) -> 573.01 | F63: шт. | G63: 8543709000 | H63: 2 роки | I63: 1 | J63: - | K63: 12 | L63: =IFERROR(VLOOKUP(B63,Харків!A:C,3,0),"0") -> 0 | N63: =E63*M63 -> 0
B64: TNSy5000512 | C64: Лампа світлодіодна LED Bulb-T120-60W-E27-E40-220V-4000K-5400L ALUM | D64: 388.69 | E64: =D64-(D64*$G$1) -> 388.69 | F64: шт. | G64: 8543709000 | H64: 2 роки | I64: 1 | J64: - | K64: 12 | L64: =IFERROR(VLOOKUP(B64,Харків!A:C,3,0),"0") -> >20 | N64: =E64*M64 -> 0
B65: TNSy5000108 | C65: Лампа світлодіодна LED Bulb-T140-70W-E27-E40-220V-6500K-7350L GOLDEN ALUM | D65: 622.82 | E65: =D65-(D65*$G$1) -> 622.82 | F65: шт. | G65: 8539520000 | H65: 2 роки | I65: 1 | J65: - | K65: 8 | L65: =IFERROR(VLOOKUP(B65,Харків!A:C,3,0),"0") -> >200 | N65: =E65*M65 -> 0
B66: TNSy5000109 | C66: Лампа світлодіодна LED Bulb-T150-100W-E27-E40-220V-6500K-10500L GOLDEN ALUM | D66: 844.23 | E66: =D66-(D66*$G$1) -> 844.23 | F66: шт. | G66: 8539520000 | H66: 2 роки | I66: 1 | J66: - | K66: 8 | L66: =IFERROR(VLOOKUP(B66,Харків!A:C,3,0),"0") -> >100 | N66: =E66*M66 -> 0
B67: TNSy5000525 | C67: Лампа світлодіодна LED Bulb-T150-100W-E27-E40-220V-4000K-10500L GOLDEN ALUM | D67: 844.23 | E67: =D67-(D67*$G$1) -> 844.23 | F67: шт. | G67: 8543709000 | H67: 2 роки | I67: 1 | J67: - | K67: 8 | L67: =IFERROR(VLOOKUP(B67,Харків!A:C,3,0),"0") -> >50 | N67: =E67*M67 -> 0
B68: TNSy5000638 | C68: Лампа світлодіодна LED Bulb-T140-120W-E27-E40-220V-6500K-12600L GOLDEN ALUM | D68: 936.48 | E68: =D68-(D68*$G$1) -> 936.48 | F68: шт. | G68: 8543709000 | H68: 2 роки | I68: 1 | J68: - | K68: 8 | L68: =IFERROR(VLOOKUP(B68,Харків!A:C,3,0),"0") -> 0 | N68: =E68*M68 -> 0
C69: Лампи LED Т8 SILVER (600/1200/1500)
B70: TNSy5000641 | C70: Лампа світлодіодна трубчаcта LED L-600-6400K-G13-9w-220V-810L GLASS SILVER | D70: 69.03 | E70: =D70-(D70*$G$1) -> 69.03 | F70: шт. | G70: 8539520000 | H70: 1 рік | I70: 1 | J70: - | K70: 30 | L70: =IFERROR(VLOOKUP(B70,Харків!A:C,3,0),"0") -> >2000 | N70: =E70*M70 -> 0
B71: TNSy5001112 | C71: Лампа світлодіодна трубчаcта LED L-600-5000K-G13-9w-220V-810L GLASS SILVER | D71: 69.03 | E71: =D71-(D71*$G$1) -> 69.03 | F71: шт. | G71: 8539520000 | H71: 1 рік | I71: 1 | J71: - | K71: 30 | L71: =IFERROR(VLOOKUP(B71,Харків!A:C,3,0),"0") -> >200 | N71: =E71*M71 -> 0
B72: TNSy5000642 | C72: Лампа світлодіодна трубчаcта LED L-600-4000K-G13-9w-220V-810L GLASS SILVER | D72: 69.03 | E72: =D72-(D72*$G$1) -> 69.03 | F72: шт. | G72: 8539520000 | H72: 1 рік | I72: 1 | J72: - | K72: 30 | L72: =IFERROR(VLOOKUP(B72,Харків!A:C,3,0),"0") -> >300 | N72: =E72*M72 -> 0
B73: TNSy5000643 | C73: Лампа світлодіодна трубчаcта LED L-1200-6400K-G13-18w-220V-1620L GLASS SILVER | D73: 85.78 | E73: =D73-(D73*$G$1) -> 85.78 | F73: шт. | G73: 8539520000 | H73: 1 рік | I73: 1 | J73: - | K73: 30 | L73: =IFERROR(VLOOKUP(B73,Харків!A:C,3,0),"0") -> >2000 | N73: =E73*M73 -> 0
B74: TNSy5001113 | C74: Лампа світлодіодна трубчаcта LED L-1200-5000K-G13-18w-220V-1620L GLASS SILVER | D74: 85.78 | E74: =D74-(D74*$G$1) -> 85.78 | F74: шт. | G74: 8539520000 | H74: 1 рік | I74: 1 | J74: - | K74: 30 | L74: =IFERROR(VLOOKUP(B74,Харків!A:C,3,0),"0") -> >500 | N74: =E74*M74 -> 0
B75: TNSy5000644 | C75: Лампа світлодіодна трубчаcта LED L-1200-4000K-G13-18w-220V-1620L GLASS SILVER | D75: 85.78 | E75: =D75-(D75*$G$1) -> 85.78 | F75: шт. | G75: 8539520000 | H75: 1 рік | I75: 1 | J75: - | K75: 30 | L75: =IFERROR(VLOOKUP(B75,Харків!A:C,3,0),"0") -> >400 | N75: =E75*M75 -> 0
B76: TNSy5000223 | C76: Лампа світлодіодна трубчаcта LED-L-1500-6400K-G13-24w-220V-2400L GLASS SILVER | D76: 135.89 | E76: =D76-(D76*$G$1) -> 135.89 | F76: шт. | G76: 8539520000 | H76: 1 рік | I76: 1 | J76: - | K76: 30 | L76: =IFERROR(VLOOKUP(B76,Харків!A:C,3,0),"0") -> >20 | N76: =E76*M76 -> 0
B77: TNSy5001114 | C77: Лампа світлодіодна трубчаcта LED-L-1500-5000K-G13-24w-220V-2400L GLASS SILVER | D77: 135.89 | E77: =D77-(D77*$G$1) -> 135.89 | F77: шт. | G77: 8539520000 | H77: 1 рік | I77: 1 | J77: - | K77: 30 | L77: =IFERROR(VLOOKUP(B77,Харків!A:C,3,0),"0") -> >100 | N77: =E77*M77 -> 0
B78: TNSy5000553 | C78: Лампа світлодіодна трубчаcта LED-L-1500-4000K-G13-24w-220V-2400L GLASS SILVER | D78: 135.89 | E78: =D78-(D78*$G$1) -> 135.89 | F78: шт. | G78: 8539520000 | H78: 1 рік | I78: 1 | J78: - | K78: 30 | L78: =IFERROR(VLOOKUP(B78,Харків!A:C,3,0),"0") -> >500 | N78: =E78*M78 -> 0
C79: Лампи LED Т8 GOLDEN (600/1200/1200PRO)
B80: TNSy5000001 | C80: Лампа світлодіодна трубчаcта LED L-600-6400K-G13-9w-220V-950L GLASS GOLDEN | D80: 79.05 | E80: =D80-(D80*$G$1) -> 79.05 | F80: шт. | G80: 8543709000 | H80: 2 роки | I80: 1 | J80: - | K80: 30 | L80: =IFERROR(VLOOKUP(B80,Харків!A:C,3,0),"0") -> >2000 | N80: =E80*M80 -> 0
B81: TNSy5000002 | C81: Лампа світлодіодна трубчаcта LED L-600-4000K-G13-9w-220V-950L GLASS GOLDEN | D81: 79.05 | E81: =D81-(D81*$G$1) -> 79.05 | F81: шт. | G81: 8543709000 | H81: 2 роки | I81: 1 | J81: - | K81: 30 | L81: =IFERROR(VLOOKUP(B81,Харків!A:C,3,0),"0") -> >500 | N81: =E81*M81 -> 0
B82: TNSy5000003 | C82: Лампа світлодіодна трубчаcта LED L-1200-6400K-G13-18w-220V-1900L GLASS GOLDEN | D82: 99.31 | E82: =D82-(D82*$G$1) -> 99.31 | F82: шт. | G82: 8543709000 | H82: 2 роки | I82: 1 | J82: - | K82: 30 | L82: =IFERROR(VLOOKUP(B82,Харків!A:C,3,0),"0") -> >2000 | N82: =E82*M82 -> 0
B83: TNSy5000004 | C83: Лампа світлодіодна трубчаcта LED L-1200-4000K-G13-18w-220V-1900L GLASS GOLDEN | D83: 99.31 | E83: =D83-(D83*$G$1) -> 99.31 | F83: шт. | G83: 8543709000 | H83: 2 роки | I83: 1 | J83: - | K83: 30 | L83: =IFERROR(VLOOKUP(B83,Харків!A:C,3,0),"0") -> >500 | N83: =E83*M83 -> 0
B84: TNSy5000106 | C84: Лампа світлодіодна трубчаcта LED L-1200-6400K-G13-24w-220V-2500L GLASS GOLDEN-PRO | D84: 108.56 | E84: =D84-(D84*$G$1) -> 108.56 | F84: шт. | G84: 8543709000 | H84: 2 роки | I84: 1 | J84: - | K84: 30 | L84: =IFERROR(VLOOKUP(B84,Харків!A:C,3,0),"0") -> >200 | N84: =E84*M84 -> 0
B85: TNSy5000645 | C85: Лампа світлодіодна трубчаcта LED L-1200-4000K-G13-24w-220V-2500L GLASS GOLDEN-PRO | D85: 108.56 | E85: =D85-(D85*$G$1) -> 108.56 | F85: шт. | G85: 8543709000 | H85: 2 роки | I85: 1 | J85: - | K85: 30 | L85: =IFERROR(VLOOKUP(B85,Харків!A:C,3,0),"0") -> >100 | N85: =E85*M85 -> 0
C86: Світильники LED офісні (PRISMATIC SILVER)
B87: TNSy5001101 | C87: Світильник LED-PRISMATIC-595-19-6400K-36W-220V-3000L SILVER | D87: 325.44 | E87: =D87-(D87*$G$1) -> 325.44 | F87: шт. | G87: 9405119090 | H87: 1 рік | I87: 1 | J87: - | K87: 6 | L87: =IFERROR(VLOOKUP(B87,Харків!A:C,3,0),"0") -> >200 | N87: =E87*M87 -> 0
B88: TNSy5001103 | C88: Світильник LED-PRISMATIC-595-19-4000K-36W-220V-3000L SILVER | D88: 325.44 | E88: =D88-(D88*$G$1) -> 325.44 | F88: шт. | G88: 9405119090 | H88: 1 рік | I88: 1 | J88: - | K88: 6 | L88: =IFERROR(VLOOKUP(B88,Харків!A:C,3,0),"0") -> >100 | N88: =E88*M88 -> 0
C89: Світильники LED офісні (PRISMATIC)
B90: TNSy5000005 | C90: Світильник LED-PRISMATIC-595-19-6400K-36W-220V-3500L GOLDEN | D90: 389.68 | E90: =D90-(D90*$G$1) -> 389.68 | F90: шт. | G90: 9405119090 | H90: 2 роки | I90: 1 | J90: - | K90: 6 | L90: =IFERROR(VLOOKUP(B90,Харків!A:C,3,0),"0") -> >2000 | N90: =E90*M90 -> 0
B91: TNSy5000691 | C91: Світильник LED-PRISMATIC-595-19-5000K-36W-220V-3000L | D91: 389.68 | E91: =D91-(D91*$G$1) -> 389.68 | F91: шт. | G91: 9405119090 | H91: 1 рік | I91: 1 | J91: - | K91: 6 | L91: =IFERROR(VLOOKUP(B91,Харків!A:C,3,0),"0") -> >100 | N91: =E91*M91 -> 0
B92: TNSy5000013 | C92: Світильник LED-PRISMATIC-595-19-4000K-36W-220V-3000L | D92: 389.68 | E92: =D92-(D92*$G$1) -> 389.68 | F92: шт. | G92: 9405119090 | H92: 1 рік | I92: 1 | J92: - | K92: 6 | L92: =IFERROR(VLOOKUP(B92,Харків!A:C,3,0),"0") -> >1000 | N92: =E92*M92 -> 0
B93: TNSy5000220 | C93: Світильник LED-PRISMATIC-595-19-6400K-48W-220V-4000L | D93: 425.46 | E93: =D93-(D93*$G$1) -> 425.46 | F93: шт. | G93: 9405119090 | H93: 1 рік | I93: 1 | J93: - | K93: 6 | L93: =IFERROR(VLOOKUP(B93,Харків!A:C,3,0),"0") -> >1000 | N93: =E93*M93 -> 0
B94: TNSy5000653 | C94: Світильник LED-PRISMATIC-595-19-4000K-48W-220V-4000L | D94: 425.46 | E94: =D94-(D94*$G$1) -> 425.46 | F94: шт. | G94: 9405119090 | H94: 1 рік | I94: 1 | J94: - | K94: 6 | L94: =IFERROR(VLOOKUP(B94,Харків!A:C,3,0),"0") -> >100 | N94: =E94*M94 -> 0
B95: TNSy5000687 | C95: Світильник LED-PRISMATIC-595-19-6400K-72W-220V-6000L | D95: 525.73 | E95: =D95-(D95*$G$1) -> 525.73 | F95: шт. | G95: 9405119090 | H95: 1 рік | I95: 1 | J95: - | K95: 6 | L95: =IFERROR(VLOOKUP(B95,Харків!A:C,3,0),"0") -> 0 | N95: =E95*M95 -> 0
C96: Світильники LED офісні (OPAL)
B97: TNSy5000020 | C97: Світильник LED-OPAL-595-19-6400K-36W-220V-3000L | D97: 405.2 | E97: =D97-(D97*$G$1) -> 405.2 | F97: шт. | G97: 9405119090 | H97: 1 рік | I97: 1 | J97: - | K97: 6 | L97: =IFERROR(VLOOKUP(B97,Харків!A:C,3,0),"0") -> >300 | N97: =E97*M97 -> 0
B98: TNSy5000021 | C98: Світильник LED-OPAL-595-19-4000K-36W-220V-3000L | D98: 405.2 | E98: =D98-(D98*$G$1) -> 405.2 | F98: шт. | G98: 9405119090 | H98: 1 рік | I98: 1 | J98: - | K98: 6 | L98: =IFERROR(VLOOKUP(B98,Харків!A:C,3,0),"0") -> >100 | N98: =E98*M98 -> 0
C99: Світильники LED офісні (PANEL-Iron Universal) (Н=20мм)
B100: TNSy5000567 | C100: Світильник LED-PANEL-595-20-6400K-42W-220V-4000L Iron Universal | D100: 564.85 | E100: =D100-(D100*$G$1) -> 564.85 | F100: шт. | G100: 9405119090 | H100: 1 рік | I100: 1 | J100: - | K100: 4 | L100: =IFERROR(VLOOKUP(B100,Харків!A:C,3,0),"0") -> >50 | N100: =E100*M100 -> 0
B101: TNSy5001177 | C101: Світильник LED-PANEL-595-20-5000K-42W-220V-4000L Iron Universal | D101: 564.85 | E101: =D101-(D101*$G$1) -> 564.85 | F101: шт. | G101: 9405119090 | H101: 1 рік | I101: 1 | J101: - | K101: 4 | L101: =IFERROR(VLOOKUP(B101,Харків!A:C,3,0),"0") -> 0 | N101: =E101*M101 -> 0
...

Sheet Зміна прайсових цін
B1: ЗМІСТ | D1: БЦ до 19.08.2026 | E1: БЦ з 19.08.2026 | F1: %
A2: Фото | B2: Індекс | C2: Назва | D2: Прайс ціна грн. з ПДВ | E2: Прайс ціна грн. з ПДВ
C3: Лампи LED A60 (AC/DC 12-48V) (Е27)
B4: TNSy5000554 | C4: Лампа світлодіодна LED Bulb A60-9W-E27-(AC/DC 12-48V)-6500K-810L ICCD | D4: 98.86 | E4: =IFERROR(VLOOKUP(B4,'Techno Systems'!B:D,3,0),"") -> 103.8 | F4: =IFERROR(E4/D4-1,0) -> 0.049969654
B5: TNSy5000085 | C5: Лампа світлодіодна LED Bulb A60-9W-E27-(AC/DC 12-48V)-4000K-810L ICCD | D5: 98.86 | E5: =IFERROR(VLOOKUP(B5,'Techno Systems'!B:D,3,0),"") -> 103.8 | F5: =IFERROR(E5/D5-1,0) -> 0.049969654
C6: Лампа LED Bulb-MX-A60 (Е27) (з мікрохвильовим датчиком руху 360гр. 6м.)
B7: TNSy5001264 | C7: Лампа світлодіодна LED Bulb-MX-A60-9W-E27-230V-6500K-810L (з мікрохвильовим датчиком руху 360гр. 6м.) | D7: 183 | E7: =IFERROR(VLOOKUP(B7,'Techno Systems'!B:D,3,0),"") -> 183 | F7: =IFERROR(E7/D7-1,0) -> 0
C8: Лампа LED MR16 (GU5.3)
B9: TNSy5000047 | C9: Лампа світлодіодна LED MR16-5W-GU5.3-220V-4000K-450L ICCD | D9: 41.18 | E9: =IFERROR(VLOOKUP(B9,'Techno Systems'!B:D,3,0),"") -> 41.18 | F9: =IFERROR(E9/D9-1,0) -> 0
C10: Лампи LED C37 (Е14, Е27) SILVER / GOLDEN
B11: TNSy5000812 | C11: Лампа світлодіодна LED Bulb-C37-8W-E14-220V-4000K-720L SILVER | D11: 29.11 | E11: =IFERROR(VLOOKUP(B11,'Techno Systems'!B:D,3,0),"") -> 29.11 | F11: =IFERROR(E11/D11-1,0) -> 0
B13: TNSy5000253 | C13: Лампа світлодіодна LED Bulb-C37-6W-E14-220V-6500K-630L GOLDEN | D13: 32.56 | E13: =IFERROR(VLOOKUP(B13,'Techno Systems'!B:D,3,0),"") -> 32.56 | F13: =IFERROR(E13/D13-1,0) -> 0
B14: TNSy5000039 | C14: Лампа світлодіодна LED Bulb-C37-6W-E14-220V-4000K-540L ICCD | D14: 32.56 | E14: =IFERROR(VLOOKUP(B14,'Techno Systems'!B:D,3,0),"") -> 32.56 | F14: =IFERROR(E14/D14-1,0) -> 0
B15: TNSy5000252 | C15: Лампа світлодіодна LED Bulb-C37-6W-E27-220V-6500K-630L GOLDEN | D15: 36.39 | E15: =IFERROR(VLOOKUP(B15,'Techno Systems'!B:D,3,0),"") -> 36.39 | F15: =IFERROR(E15/D15-1,0) -> 0
B16: TNSy5000038 | C16: Лампа світлодіодна LED Bulb-C37-6W-E27-220V-4000K-540L ICCD | D16: 36.39 | E16: =IFERROR(VLOOKUP(B16,'Techno Systems'!B:D,3,0),"") -> 36.39 | F16: =IFERROR(E16/D16-1,0) -> 0
C17: Лампи LED G45 (Е27) SILVER
B18: TNSy5000607 | C18: Лампа світлодіодна LED Bulb-G45-5W-E27-220V-6500K-450L SILVER | D18: 34.36 | E18: =IFERROR(VLOOKUP(B18,'Techno Systems'!B:D,3,0),"") -> 34.36 | F18: =IFERROR(E18/D18-1,0) -> 0
B19: TNSy5000600 | C19: Лампа світлодіодна LED Bulb-G45-5W-E27-220V-4000K-450L SILVER | D19: 34.36 | E19: =IFERROR(VLOOKUP(B19,'Techno Systems'!B:D,3,0),"") -> 34.36 | F19: =IFERROR(E19/D19-1,0) -> 0
B20: TNSy5000608 | C20: Лампа світлодіодна LED Bulb-G45-7W-E27-220V-6500K-630L SILVER | D20: 36.32 | E20: =IFERROR(VLOOKUP(B20,'Techno Systems'!B:D,3,0),"") -> 36.32 | F20: =IFERROR(E20/D20-1,0) -> 0
B21: TNSy5000601 | C21: Лампа світлодіодна LED Bulb-G45-7W-E27-220V-4000K-630L SILVER | D21: 36.32 | E21: =IFERROR(VLOOKUP(B21,'Techno Systems'!B:D,3,0),"") -> 36.32 | F21: =IFERROR(E21/D21-1,0) -> 0
C22: Лампи LED G45 (Е27) GOLDEN
B23: TNSy5000245 | C23: Лампа світлодіодна LED Bulb-G45-5W-E27-220V-6500K-530L GOLDEN | D23: 38.18 | E23: =IFERROR(VLOOKUP(B23,'Techno Systems'!B:D,3,0),"") -> 38.18 | F23: =IFERROR(E23/D23-1,0) -> 0
B24: TNSy5000037 | C24: Лампа світлодіодна LED Bulb-G45-5W-E27-220V-4000K-530L GOLDEN | D24: 38.18 | E24: =IFERROR(VLOOKUP(B24,'Techno Systems'!B:D,3,0),"") -> 38.18 | F24: =IFERROR(E24/D24-1,0) -> 0
B25: TNSy5000251 | C25: Лампа світлодіодна LED Bulb-G45-7W-E27-220V-6500K-740L GOLDEN | D25: 40.36 | E25: =IFERROR(VLOOKUP(B25,'Techno Systems'!B:D,3,0),"") -> 40.36 | F25: =IFERROR(E25/D25-1,0) -> 0
B26: TNSy5000036 | C26: Лампа світлодіодна LED Bulb-G45-7W-E27-220V-4000K-740L GOLDEN | D26: 40.36 | E26: =IFERROR(VLOOKUP(B26,'Techno Systems'!B:D,3,0),"") -> 40.36 | F26: =IFERROR(E26/D26-1,0) -> 0
C27: Лампи LED A60 (Е27) SILVER
B28: TNSy5000609 | C28: Лампа світлодіодна LED Bulb-A60-9W-E27-220V-6500K-810L SILVER | D28: 37.96 | E28: =IFERROR(VLOOKUP(B28,'Techno Systems'!B:D,3,0),"") -> 37.96 | F28: =IFERROR(E28/D28-1,0) -> 0
B29: TNSy5000602 | C29: Лампа світлодіодна LED Bulb-A60-9W-E27-220V-4000K-810L SILVER | D29: 37.96 | E29: =IFERROR(VLOOKUP(B29,'Techno Systems'!B:D,3,0),"") -> 37.96 | F29: =IFERROR(E29/D29-1,0) -> 0
B30: TNSy5000611 | C30: Лампа світлодіодна LED Bulb-A60-12W-E27-220V-6500K-1100L SILVER | D30: 42.9 | E30: =IFERROR(VLOOKUP(B30,'Techno Systems'!B:D,3,0),"") -> 42.9 | F30: =IFERROR(E30/D30-1,0) -> 0
B31: TNSy5000604 | C31: Лампа світлодіодна LED Bulb-A60-12W-E27-220V-4000K-1100L SILVER | D31: 42.9 | E31: =IFERROR(VLOOKUP(B31,'Techno Systems'!B:D,3,0),"") -> 42.9 | F31: =IFERROR(E31/D31-1,0) -> 0
B32: TNSy5000612 | C32: Лампа світлодіодна LED Bulb-A60-15W-E27-220V-6500K-1350L SILVER | D32: 51.9 | E32: =IFERROR(VLOOKUP(B32,'Techno Systems'!B:D,3,0),"") -> 51.9 | F32: =IFERROR(E32/D32-1,0) -> 0
B33: TNSy5000605 | C33: Лампа світлодіодна LED Bulb-A60-15W-E27-220V-4000K-1350L SILVER | D33: 51.9 | E33: =IFERROR(VLOOKUP(B33,'Techno Systems'!B:D,3,0),"") -> 51.9 | F33: =IFERROR(E33/D33-1,0) -> 0
B34: TNSy5000613 | C34: Лампа світлодіодна LED Bulb-A60-20W-E27-220V-6500K-1800L SILVER | D34: 69.7 | E34: =IFERROR(VLOOKUP(B34,'Techno Systems'!B:D,3,0),"") -> 69.7 | F34: =IFERROR(E34/D34-1,0) -> 0
B35: TNSy5000606 | C35: Лампа світлодіодна LED Bulb-A60-20W-E27-220V-4000K-1800L SILVER | D35: 69.7 | E35: =IFERROR(VLOOKUP(B35,'Techno Systems'!B:D,3,0),"") -> 69.7 | F35: =IFERROR(E35/D35-1,0) -> 0
C36: Лампи LED A60, A80 (Е27) GOLDEN
B37: TNSy5000254 | C37: Лампа світлодіодна LED Bulb-A60-9W-E27-220V-6500K-950L GOLDEN | D37: 42.18 | E37: =IFERROR(VLOOKUP(B37,'Techno Systems'!B:D,3,0),"") -> 42.18 | F37: =IFERROR(E37/D37-1,0) -> 0
B38: TNSy5000040 | C38: Лампа світлодіодна LED Bulb-A60-9W-E27-220V-4000K-950L GOLDEN | D38: 42.18 | E38: =IFERROR(VLOOKUP(B38,'Techno Systems'!B:D,3,0),"") -> 42.18 | F38: =IFERROR(E38/D38-1,0) -> 0
B39: TNSy5000255 | C39: Лампа світлодіодна LED Bulb-A60-12W-E27-220V-6500K-1260 GOLDEN | D39: 50.47 | E39: =IFERROR(VLOOKUP(B39,'Techno Systems'!B:D,3,0),"") -> 50.47 | F39: =IFERROR(E39/D39-1,0) -> 0
B40: TNSy5000041 | C40: Лампа світлодіодна LED Bulb-A60-12W-E27-220V-4000K-1260 GOLDEN | D40: 50.47 | E40: =IFERROR(VLOOKUP(B40,'Techno Systems'!B:D,3,0),"") -> 50.47 | F40: =IFERROR(E40/D40-1,0) -> 0
B41: TNSy5000256 | C41: Лампа світлодіодна LED Bulb-A60-15W-E27-220V-6500K-1580 GOLDEN | D41: 61.06 | E41: =IFERROR(VLOOKUP(B41,'Techno Systems'!B:D,3,0),"") -> 61.06 | F41: =IFERROR(E41/D41-1,0) -> 0
B42: TNSy5000042 | C42: Лампа світлодіодна LED Bulb-A60-15W-E27-220V-4000K-1580 GOLDEN | D42: 61.06 | E42: =IFERROR(VLOOKUP(B42,'Techno Systems'!B:D,3,0),"") -> 61.06 | F42: =IFERROR(E42/D42-1,0) -> 0
B43: TNSy5000257 | C43: Лампа світлодіодна LED Bulb-A80-18W-E27-220V-6500K-1620L GOLDEN | D43: 101.29 | E43: =IFERROR(VLOOKUP(B43,'Techno Systems'!B:D,3,0),"") -> 101.29 | F43: =IFERROR(E43/D43-1,0) -> 0
B44: TNSy5000043 | C44: Лампа світлодіодна LED Bulb-A80-18W-E27-220V-4000K-1620L GOLDEN | D44: 101.29 | E44: =IFERROR(VLOOKUP(B44,'Techno Systems'!B:D,3,0),"") -> 101.29 | F44: =IFERROR(E44/D44-1,0) -> 0
C45: Лампи LED T70-T135 (Е27, Е40) SILVER
B46: TNSy5000619 | C46: Лампа світлодіодна LED Bulb-T70-30W-E27-220V-6500K-2700L SILVER | D46: 124 | E46: =IFERROR(VLOOKUP(B46,'Techno Systems'!B:D,3,0),"") -> 124 | F46: =IFERROR(E46/D46-1,0) -> 0
B47: TNSy5000620 | C47: Лампа світлодіодна LED Bulb-T100-40W-E27-E40-220V-6500K-3600L SILVER | D47: 198 | E47: =IFERROR(VLOOKUP(B47,'Techno Systems'!B:D,3,0),"") -> 198 | F47: =IFERROR(E47/D47-1,0) -> 0
B48: TNSy5000621 | C48: Лампа світлодіодна LED Bulb-T115-50W-E27-E40-220V-6500K-4500L SILVER | D48: 247 | E48: =IFERROR(VLOOKUP(B48,'Techno Systems'!B:D,3,0),"") -> 247 | F48: =IFERROR(E48/D48-1,0) -> 0
B49: TNSy5000622 | C49: Лампа світлодіодна LED Bulb-T135-60W-E27-E40-220V-6500K-5400L SILVER | D49: 339.9 | E49: =IFERROR(VLOOKUP(B49,'Techno Systems'!B:D,3,0),"") -> 339.9 | F49: =IFERROR(E49/D49-1,0) -> 0
C50: Лампи LED T80-T160 (Е27, Е40) GOLDEN
B51: TNSy5000044 | C51: Лампа світлодіодна LED Bulb-T80-20W-E27-220V-6500K-2100L GOLDEN | D51: 105.42 | E51: =IFERROR(VLOOKUP(B51,'Techno Systems'!B:D,3,0),"") -> 105.42 | F51: =IFERROR(E51/D51-1,0) -> 0
B52: TNSy5000258 | C52: Лампа світлодіодна LED Bulb-T80-20W-E27-220V-4000K-2100L GOLDEN | D52: 105.42 | E52: =IFERROR(VLOOKUP(B52,'Techno Systems'!B:D,3,0),"") -> 105.42 | F52: =IFERROR(E52/D52-1,0) -> 0
B53: TNSy5000045 | C53: Лампа світлодіодна LED Bulb-T100-30W-E27-220V-6500K-3150L GOLDEN | D53: 162.5 | E53: =IFERROR(VLOOKUP(B53,'Techno Systems'!B:D,3,0),"") -> 162.5 | F53: =IFERROR(E53/D53-1,0) -> 0
B54: TNSy5000259 | C54: Лампа світлодіодна LED Bulb-T100-30W-E27-220V-4000K-3150L GOLDEN | D54: 162.5 | E54: =IFERROR(VLOOKUP(B54,'Techno Systems'!B:D,3,0),"") -> 162.5 | F54: =IFERROR(E54/D54-1,0) -> 0
B55: TNSy5000181 | C55: Лампа світлодіодна LED Bulb-T120-40W-E27-E40-220V-6500K-4200L GOLDEN | D55: 238.26 | E55: =IFERROR(VLOOKUP(B55,'Techno Systems'!B:D,3,0),"") -> 238.26 | F55: =IFERROR(E55/D55-1,0) -> 0
B56: TNSy5000260 | C56: Лампа світлодіодна LED Bulb-T120-40W-E27-E40-220V-4000K-4200L GOLDEN | D56: 238.26 | E56: =IFERROR(VLOOKUP(B56,'Techno Systems'!B:D,3,0),"") -> 238.26 | F56: =IFERROR(E56/D56-1,0) -> 0
B57: TNSy5000046 | C57: Лампа світлодіодна LED Bulb-T140-50W-E27-E40-220V-6500K-5250L GOLDEN | D57: 306.08 | E57: =IFERROR(VLOOKUP(B57,'Techno Systems'!B:D,3,0),"") -> 306.08 | F57: =IFERROR(E57/D57-1,0) -> 0
B58: TNSy5000261 | C58: Лампа світлодіодна LED Bulb-T140-50W-E27-E40-220V-4000K-5250L GOLDEN | D58: 306.08 | E58: =IFERROR(VLOOKUP(B58,'Techno Systems'!B:D,3,0),"") -> 306.08 | F58: =IFERROR(E58/D58-1,0) -> 0
C59: Лампи LED T100-T150 (Е27, Е40) GOLDEN ALUM
B60: TNSy5000635 | C60: Лампа світлодіодна LED Bulb-T100-30W-E27-220V-6500K-3150L GOLDEN ALUM | D60: 221.83 | E60: =IFERROR(VLOOKUP(B60,'Techno Systems'!B:D,3,0),"") -> 221.83 | F60: =IFERROR(E60/D60-1,0) -> 0
B61: TNSy5000636 | C61: Лампа світлодіодна LED Bulb-T120-40W-E27-E40-220V-6500K-4200L GOLDEN ALUM | D61: 304.11 | E61: =IFERROR(VLOOKUP(B61,'Techno Systems'!B:D,3,0),"") -> 304.11 | F61: =IFERROR(E61/D61-1,0) -> 0
B62: TNSy5000637 | C62: Лампа світлодіодна LED Bulb-T120-50W-E27-E40-220V-6500K-5250L GOLDEN ALUM | D62: 365.24 | E62: =IFERROR(VLOOKUP(B62,'Techno Systems'!B:D,3,0),"") -> 365.24 | F62: =IFERROR(E62/D62-1,0) -> 0
B63: TNSy5000511 | C63: Лампа світлодіодна LED Bulb-T120-60W-E27-E40-220V-6500K-6300L GOLDEN ALUM | D63: 545.72 | E63: =IFERROR(VLOOKUP(B63,'Techno Systems'!B:D,3,0),"") -> 573.01 | F63: =IFERROR(E63/D63-1,0) -> 0.05000733
B64: TNSy5000512 | C64: Лампа світлодіодна LED Bulb-T120-60W-E27-E40-220V-4000K-5400L ALUM | D64: 388.69 | E64: =IFERROR(VLOOKUP(B64,'Techno Systems'!B:D,3,0),"") -> 388.69 | F64: =IFERROR(E64/D64-1,0) -> 0
B65: TNSy5000108 | C65: Лампа світлодіодна LED Bulb-T140-70W-E27-E40-220V-6500K-7350L GOLDEN ALUM | D65: 593.16 | E65: =IFERROR(VLOOKUP(B65,'Techno Systems'!B:D,3,0),"") -> 622.82 | F65: =IFERROR(E65/D65-1,0) -> 0.050003372
B66: TNSy5000109 | C66: Лампа світлодіодна LED Bulb-T150-100W-E27-E40-220V-6500K-10500L GOLDEN ALUM | D66: 844.23 | E66: =IFERROR(VLOOKUP(B66,'Techno Systems'!B:D,3,0),"") -> 844.23 | F66: =IFERROR(E66/D66-1,0) -> 0
B67: TNSy5000525 | C67: Лампа світлодіодна LED Bulb-T150-100W-E27-E40-220V-4000K-10500L GOLDEN ALUM | D67: 844.23 | E67: =IFERROR(VLOOKUP(B67,'Techno Systems'!B:D,3,0),"") -> 844.23 | F67: =IFERROR(E67/D67-1,0) -> 0
B68: TNSy5000638 | C68: Лампа світлодіодна LED Bulb-T140-120W-E27-E40-220V-6500K-12600L GOLDEN ALUM | D68: 891.89 | E68: =IFERROR(VLOOKUP(B68,'Techno Systems'!B:D,3,0),"") -> 936.48 | F68: =IFERROR(E68/D68-1,0) -> 0.049994955
C69: Лампи LED Т8 SILVER (600/1200/1500)
B70: TNSy5000641 | C70: Лампа світлодіодна трубчаcта LED L-600-6400K-G13-9w-220V-810L GLASS SILVER | D70: 69.03 | E70: =IFERROR(VLOOKUP(B70,'Techno Systems'!B:D,3,0),"") -> 69.03 | F70: =IFERROR(E70/D70-1,0) -> 0
B71: TNSy5001112 | C71: Лампа світлодіодна трубчаcта LED L-600-5000K-G13-9w-220V-810L GLASS SILVER | D71: 69.03 | E71: =IFERROR(VLOOKUP(B71,'Techno Systems'!B:D,3,0),"") -> 69.03 | F71: =IFERROR(E71/D71-1,0) -> 0
B72: TNSy5000642 | C72: Лампа світлодіодна трубчаcта LED L-600-4000K-G13-9w-220V-810L GLASS SILVER | D72: 69.03 | E72: =IFERROR(VLOOKUP(B72,'Techno Systems'!B:D,3,0),"") -> 69.03 | F72: =IFERROR(E72/D72-1,0) -> 0
B73: TNSy5000643 | C73: Лампа світлодіодна трубчаcта LED L-1200-6400K-G13-18w-220V-1620L GLASS SILVER | D73: 85.78 | E73: =IFERROR(VLOOKUP(B73,'Techno Systems'!B:D,3,0),"") -> 85.78 | F73: =IFERROR(E73/D73-1,0) -> 0
B74: TNSy5001113 | C74: Лампа світлодіодна трубчаcта LED L-1200-5000K-G13-18w-220V-1620L GLASS SILVER | D74: 85.78 | E74: =IFERROR(VLOOKUP(B74,'Techno Systems'!B:D,3,0),"") -> 85.78 | F74: =IFERROR(E74/D74-1,0) -> 0
B75: TNSy5000644 | C75: Лампа світлодіодна трубчаcта LED L-1200-4000K-G13-18w-220V-1620L GLASS SILVER | D75: 85.78 | E75: =IFERROR(VLOOKUP(B75,'Techno Systems'!B:D,3,0),"") -> 85.78 | F75: =IFERROR(E75/D75-1,0) -> 0
B76: TNSy5000223 | C76: Лампа світлодіодна трубчаcта LED-L-1500-6400K-G13-24w-220V-2400L GLASS SILVER | D76: 135.89 | E76: =IFERROR(VLOOKUP(B76,'Techno Systems'!B:D,3,0),"") -> 135.89 | F76: =IFERROR(E76/D76-1,0) -> 0
B77: TNSy5001114 | C77: Лампа світлодіодна трубчаcта LED-L-1500-5000K-G13-24w-220V-2400L GLASS SILVER | D77: 135.89 | E77: =IFERROR(VLOOKUP(B77,'Techno Systems'!B:D,3,0),"") -> 135.89 | F77: =IFERROR(E77/D77-1,0) -> 0
B78: TNSy5000553 | C78: Лампа світлодіодна трубчаcта LED-L-1500-4000K-G13-24w-220V-2400L GLASS SILVER | D78: 135.89 | E78: =IFERROR(VLOOKUP(B78,'Techno Systems'!B:D,3,0),"") -> 135.89 | F78: =IFERROR(E78/D78-1,0) -> 0
C79: Лампи LED Т8 GOLDEN (600/1200/1200PRO)
B80: TNSy5000001 | C80: Лампа світлодіодна трубчаcта LED L-600-6400K-G13-9w-220V-950L GLASS GOLDEN | D80: 79.05 | E80: =IFERROR(VLOOKUP(B80,'Techno Systems'!B:D,3,0),"") -> 79.05 | F80: =IFERROR(E80/D80-1,0) -> 0
B81: TNSy5000002 | C81: Лампа світлодіодна трубчаcта LED L-600-4000K-G13-9w-220V-950L GLASS GOLDEN | D81: 79.05 | E81: =IFERROR(VLOOKUP(B81,'Techno Systems'!B:D,3,0),"") -> 79.05 | F81: =IFERROR(E81/D81-1,0) -> 0
B82: TNSy5000003 | C82: Лампа світлодіодна трубчаcта LED L-1200-6400K-G13-18w-220V-1900L GLASS GOLDEN | D82: 99.31 | E82: =IFERROR(VLOOKUP(B82,'Techno Systems'!B:D,3,0),"") -> 99.31 | F82: =IFERROR(E82/D82-1,0) -> 0
B83: TNSy5000004 | C83: Лампа світлодіодна трубчаcта LED L-1200-4000K-G13-18w-220V-1900L GLASS GOLDEN | D83: 99.31 | E83: =IFERROR(VLOOKUP(B83,'Techno Systems'!B:D,3,0),"") -> 99.31 | F83: =IFERROR(E83/D83-1,0) -> 0
B84: TNSy5000106 | C84: Лампа світлодіодна трубчаcта LED L-1200-6400K-G13-24w-220V-2500L GLASS GOLDEN-PRO | D84: 108.56 | E84: =IFERROR(VLOOKUP(B84,'Techno Systems'!B:D,3,0),"") -> 108.56 | F84: =IFERROR(E84/D84-1,0) -> 0
B85: TNSy5000645 | C85: Лампа світлодіодна трубчаcта LED L-1200-4000K-G13-24w-220V-2500L GLASS GOLDEN-PRO | D85: 108.56 | E85: =IFERROR(VLOOKUP(B85,'Techno Systems'!B:D,3,0),"") -> 108.56 | F85: =IFERROR(E85/D85-1,0) -> 0
C86: Світильники LED офісні (PRISMATIC SILVER)
B87: TNSy5001101 | C87: Світильник LED-PRISMATIC-595-19-6400K-36W-220V-3000L SILVER | D87: 325.44 | E87: =IFERROR(VLOOKUP(B87,'Techno Systems'!B:D,3,0),"") -> 325.44 | F87: =IFERROR(E87/D87-1,0) -> 0
B88: TNSy5001103 | C88: Світильник LED-PRISMATIC-595-19-4000K-36W-220V-3000L SILVER | D88: 325.44 | E88: =IFERROR(VLOOKUP(B88,'Techno Systems'!B:D,3,0),"") -> 325.44 | F88: =IFERROR(E88/D88-1,0) -> 0
C89: Світильники LED офісні (PRISMATIC)
B90: TNSy5000005 | C90: Світильник LED-PRISMATIC-595-19-6400K-36W-220V-3500L GOLDEN | D90: 389.68 | E90: =IFERROR(VLOOKUP(B90,'Techno Systems'!B:D,3,0),"") -> 389.68 | F90: =IFERROR(E90/D90-1,0) -> 0
B91: TNSy5000691 | C91: Світильник LED-PRISMATIC-595-19-5000K-36W-220V-3000L | D91: 389.68 | E91: =IFERROR(VLOOKUP(B91,'Techno Systems'!B:D,3,0),"") -> 389.68 | F91: =IFERROR(E91/D91-1,0) -> 0
B92: TNSy5000013 | C92: Світильник LED-PRISMATIC-595-19-4000K-36W-220V-3000L | D92: 389.68 | E92: =IFERROR(VLOOKUP(B92,'Techno Systems'!B:D,3,0),"") -> 389.68 | F92: =IFERROR(E92/D92-1,0) -> 0
B93: TNSy5000220 | C93: Світильник LED-PRISMATIC-595-19-6400K-48W-220V-4000L | D93: 425.46 | E93: =IFERROR(VLOOKUP(B93,'Techno Systems'!B:D,3,0),"") -> 425.46 | F93: =IFERROR(E93/D93-1,0) -> 0
B94: TNSy5000653 | C94: Світильник LED-PRISMATIC-595-19-4000K-48W-220V-4000L | D94: 425.46 | E94: =IFERROR(VLOOKUP(B94,'Techno Systems'!B:D,3,0),"") -> 425.46 | F94: =IFERROR(E94/D94-1,0) -> 0
B95: TNSy5000687 | C95: Світильник LED-PRISMATIC-595-19-6400K-72W-220V-6000L | D95: 525.73 | E95: =IFERROR(VLOOKUP(B95,'Techno Systems'!B:D,3,0),"") -> 525.73 | F95: =IFERROR(E95/D95-1,0) -> 0
C96: Світильники LED офісні (OPAL)
B97: TNSy5000020 | C97: Світильник LED-OPAL-595-19-6400K-36W-220V-3000L | D97: 405.2 | E97: =IFERROR(VLOOKUP(B97,'Techno Systems'!B:D,3,0),"") -> 405.2 | F97: =IFERROR(E97/D97-1,0) -> 0
B98: TNSy5000021 | C98: Світильник LED-OPAL-595-19-4000K-36W-220V-3000L | D98: 405.2 | E98: =IFERROR(VLOOKUP(B98,'Techno Systems'!B:D,3,0),"") -> 405.2 | F98: =IFERROR(E98/D98-1,0) -> 0
C99: Світильники LED офісні (PANEL-Iron Universal) (Н=20мм)
B100: TNSy5000567 | C100: Світильник LED-PANEL-595-20-6400K-42W-220V-4000L Iron Universal | D100: 564.85 | E100: =IFERROR(VLOOKUP(B100,'Techno Systems'!B:D,3,0),"") -> 564.85 | F100: =IFERROR(E100/D100-1,0) -> 0
B101: TNSy5001177 | C101: Світильник LED-PANEL-595-20-5000K-42W-220V-4000L Iron Universal | D101: 564.85 | E101: =IFERROR(VLOOKUP(B101,'Techno Systems'!B:D,3,0),"") -> 564.85 | F101: =IFERROR(E101/D101-1,0) -> 0
...

Sheet Новинки 2026р.
B1: ЗМІСТ | D1: 46125 | E1: Заплановане надходження (квартал)
A2: Фото | B2: Індекс | C2: Назва | D2: Прайс ціна грн. з ПДВ | E2: 2026р.
B4: TNSy5001257 | C4: Блок аварійного живлення EPS7 40W 1/2H bat: 11,1V 5,0A (для світильника 1-40W) | D4: =IFERROR(VLOOKUP(B4,'Techno Systems'!B:D,3,0),"") -> 1531 | E4: +
D5: =IFERROR(VLOOKUP(B5,'Techno Systems'!B:D,3,0),"")
B6: TNSy5506748 | C6: Котушка УК30 4 місця, 30м, 2Р+PЕ 3х1 IP20. з З/К та Т/З. | D6: =IFERROR(VLOOKUP(B6,'Techno Systems'!B:D,3,0),"") -> 1400 | E6: +
B7: TNSy5506750 | C7: Котушка УК50 4 місця, 50м, 2Р+PЕ 3х1 IP20. з З/К та Т/З. | D7: =IFERROR(VLOOKUP(B7,'Techno Systems'!B:D,3,0),"") -> 2150 | E7: +
B8: TNSy5506751 | C8: Котушка УК50+1 4+1 місця, 50м, 2Р+PЕ 3х1 IP20. з З/К та Т/З. | D8: =IFERROR(VLOOKUP(B8,'Techno Systems'!B:D,3,0),"") -> 2268 | E8: +
B9: TNSy5506752 | C9: Котушка УК50к 4 місця, 50м, 2Р+PЕ 3х1 IP44. з З/К та Т/З. | D9: =IFERROR(VLOOKUP(B9,'Techno Systems'!B:D,3,0),"") -> 2332 | E9: +
B10: TNSy5506753 | C10: Котушка УК50км 4 місця, 50м, 2Р+PЕ 3х1 IP44. з З/К та Т/З. | D10: =IFERROR(VLOOKUP(B10,'Techno Systems'!B:D,3,0),"") -> 2756 | E10: +
B12: TNSy5506754 | C12: Рамка УР50 для дроту | D12: =IFERROR(VLOOKUP(B12,'Techno Systems'!B:D,3,0),"") -> 25 | E12: +
B13: TNSy5506744 | C13: Подовжувач УР30 на рамці 1 місце 2Р+PE/30м 3х1,0 мм2 | D13: =IFERROR(VLOOKUP(B13,'Techno Systems'!B:D,3,0),"") -> 925 | E13: +
B14: TNSy5506745 | C14: Подовжувач УР40 на рамці 1 місце 2Р+PE/40м 3х1,0 мм2 | D14: =IFERROR(VLOOKUP(B14,'Techno Systems'!B:D,3,0),"") -> 1135 | E14: +
B15: TNSy5506746 | C15: Подовжувач УР50 на рамці 1 місце 2Р+PE/50м 3х1,0 мм3 | D15: =IFERROR(VLOOKUP(B15,'Techno Systems'!B:D,3,0),"") -> 1345 | E15: +
D16: =IFERROR(VLOOKUP(B16,'Techno Systems'!B:D,3,0),"")
B17: TNSy5900021 | C17: Затискач плашковий ПА-3-2 (12.3-14.0) | D17: =IFERROR(VLOOKUP(B17,'Techno Systems'!B:D,3,0),"") -> 290.15 | E17: +
D18: =IFERROR(VLOOKUP(B18,'Techno Systems'!B:D,3,0),"")
B19: TNSy5900051 | C19: Труба гофрована поліпропіленова, з протяжкою, НГ стійка до УФ 16, чорна,важка (10м) | D19: =IFERROR(VLOOKUP(B19,'Techno Systems'!B:D,3,0),"") -> 13.92 | E19: +
B20: TNSy5900052 | C20: Труба гофрована поліпропіленова, з протяжкою, НГ стійка до УФ 16, чорна,важка (25м) | D20: =IFERROR(VLOOKUP(B20,'Techno Systems'!B:D,3,0),"") -> 13.92 | E20: +
B21: TNSy5900053 | C21: Труба гофрована поліпропіленова, з протяжкою, НГ стійка до УФ 16, чорна,важка (50м) | D21: =IFERROR(VLOOKUP(B21,'Techno Systems'!B:D,3,0),"") -> 13.55 | E21: +
B22: TNSy5900054 | C22: Труба гофрована поліпропіленова, з протяжкою, НГ стійка до УФ 20, чорна,важка (10м) | D22: =IFERROR(VLOOKUP(B22,'Techno Systems'!B:D,3,0),"") -> 17.57 | E22: +
B23: TNSy5900055 | C23: Труба гофрована поліпропіленова, з протяжкою, НГ стійка до УФ 20, чорна,важка (25м) | D23: =IFERROR(VLOOKUP(B23,'Techno Systems'!B:D,3,0),"") -> 17.57 | E23: +
B24: TNSy5900056 | C24: Труба гофрована поліпропіленова, з протяжкою, НГ стійка до УФ 20, чорна,важка (50м) | D24: =IFERROR(VLOOKUP(B24,'Techno Systems'!B:D,3,0),"") -> 17.2 | E24: +
B25: TNSy5900057 | C25: Труба гофрована поліпропіленова, з протяжкою, НГ стійка до УФ 25, чорна,важка (10м) | D25: =IFERROR(VLOOKUP(B25,'Techno Systems'!B:D,3,0),"") -> 24.2 | E25: +
B26: TNSy5900058 | C26: Труба гофрована поліпропіленова, з протяжкою, НГ стійка до УФ 25, чорна,важка (25м) | D26: =IFERROR(VLOOKUP(B26,'Techno Systems'!B:D,3,0),"") -> 23.72 | E26: +
B27: TNSy5900042 | C27: Трубка гофрована Нерозрізна автомобільна 7,5/10,5мм (100 м) | D27: =IFERROR(VLOOKUP(B27,'Techno Systems'!B:D,3,0),"") -> 17.88 | E27: +

Sheet Замовлення TNSy
B1: 00000 | C1: Найменування клієнта | E1: кількість для замовлення
A2: № | B2: Індекс | C2: Назва | D2: Од. вим. | E2: Замовлення шт. | F2: Доступно ХАРКІВ | G2: Доступно КИЇВ | H2: Ціна | I2: ТМ | K2: № | L2: Індекс | M2: Назва | N2: Од. вим. | O2: Доступно Харків | P2: Ваша ціна грн. з ПДВ
A3: 1 | B3: =IF(AND(L:L>0),L:L,"") | C3: =IF(AND(L:L>0),M:M,"") | D3: =IF(AND(L:L>0),N:N,"") | E3: =IF(AND(L:L>0),K:K,"") | F3: =IF(AND(L:L>0),O:O,"") | H3: =IF(AND(L:L>0),P:P,"") | K3: (пусто)
A4: 2 | B4: =IF(AND(L:L>0),L:L,"") | C4: =IF(AND(L:L>0),M:M,"") | D4: =IF(AND(L:L>0),N:N,"") | E4: =IF(AND(L:L>0),K:K,"") | F4: =IF(AND(L:L>0),O:O,"") | H4: =IF(AND(L:L>0),P:P,"") | K4: Общий итог
A5: 3 | B5: =IF(AND(L:L>0),L:L,"") | C5: =IF(AND(L:L>0),M:M,"") | D5: =IF(AND(L:L>0),N:N,"") | E5: =IF(AND(L:L>0),K:K,"") | F5: =IF(AND(L:L>0),O:O,"") | H5: =IF(AND(L:L>0),P:P,"")
A6: 4 | B6: =IF(AND(L:L>0),L:L,"") | C6: =IF(AND(L:L>0),M:M,"") | D6: =IF(AND(L:L>0),N:N,"") | E6: =IF(AND(L:L>0),K:K,"") | F6: =IF(AND(L:L>0),O:O,"") | H6: =IF(AND(L:L>0),P:P,"")
A7: 5 | B7: =IF(AND(L:L>0),L:L,"") | C7: =IF(AND(L:L>0),M:M,"") | D7: =IF(AND(L:L>0),N:N,"") | E7: =IF(AND(L:L>0),K:K,"") | F7: =IF(AND(L:L>0),O:O,"") | H7: =IF(AND(L:L>0),P:P,"")
A8: 6 | B8: =IF(AND(L:L>0),L:L,"") | C8: =IF(AND(L:L>0),M:M,"") | D8: =IF(AND(L:L>0),N:N,"") | E8: =IF(AND(L:L>0),K:K,"") | F8: =IF(AND(L:L>0),O:O,"") | H8: =IF(AND(L:L>0),P:P,"")
A9: 7 | B9: =IF(AND(L:L>0),L:L,"") | C9: =IF(AND(L:L>0),M:M,"") | D9: =IF(AND(L:L>0),N:N,"") | E9: =IF(AND(L:L>0),K:K,"") | F9: =IF(AND(L:L>0),O:O,"") | H9: =IF(AND(L:L>0),P:P,"")
A10: 8 | B10: =IF(AND(L:L>0),L:L,"") | C10: =IF(AND(L:L>0),M:M,"") | D10: =IF(AND(L:L>0),N:N,"") | E10: =IF(AND(L:L>0),K:K,"") | F10: =IF(AND(L:L>0),O:O,"") | H10: =IF(AND(L:L>0),P:P,"")
A11: 9 | B11: =IF(AND(L:L>0),L:L,"") | C11: =IF(AND(L:L>0),M:M,"") | D11: =IF(AND(L:L>0),N:N,"") | E11: =IF(AND(L:L>0),K:K,"") | F11: =IF(AND(L:L>0),O:O,"") | H11: =IF(AND(L:L>0),P:P,"")
A12: 10 | B12: =IF(AND(L:L>0),L:L,"") | C12: =IF(AND(L:L>0),M:M,"") | D12: =IF(AND(L:L>0),N:N,"") | E12: =IF(AND(L:L>0),K:K,"") | F12: =IF(AND(L:L>0),O:O,"") | H12: =IF(AND(L:L>0),P:P,"")
A13: 11 | B13: =IF(AND(L:L>0),L:L,"") | C13: =IF(AND(L:L>0),M:M,"") | D13: =IF(AND(L:L>0),N:N,"") | E13: =IF(AND(L:L>0),K:K,"") | F13: =IF(AND(L:L>0),O:O,"") | H13: =IF(AND(L:L>0),P:P,"")
A14: 12 | B14: =IF(AND(L:L>0),L:L,"") | C14: =IF(AND(L:L>0),M:M,"") | D14: =IF(AND(L:L>0),N:N,"") | E14: =IF(AND(L:L>0),K:K,"") | F14: =IF(AND(L:L>0),O:O,"") | H14: =IF(AND(L:L>0),P:P,"")
A15: 13 | B15: =IF(AND(L:L>0),L:L,"") | C15: =IF(AND(L:L>0),M:M,"") | D15: =IF(AND(L:L>0),N:N,"") | E15: =IF(AND(L:L>0),K:K,"") | F15: =IF(AND(L:L>0),O:O,"") | H15: =IF(AND(L:L>0),P:P,"")
A16: 14 | B16: =IF(AND(L:L>0),L:L,"") | C16: =IF(AND(L:L>0),M:M,"") | D16: =IF(AND(L:L>0),N:N,"") | E16: =IF(AND(L:L>0),K:K,"") | F16: =IF(AND(L:L>0),O:O,"") | H16: =IF(AND(L:L>0),P:P,"")
... A102: 100 | B102: =IF(AND(L:L>0),L:L,"") | C102: =IF(AND(L:L>0),M:M,"") | D102: =IF(AND(L:L>0),N:N,"") | E102: =IF(AND(L:L>0),K:K,"") | F102: =IF(AND(L:L>0),O:O,"") | H102: =IF(AND(L:L>0),P:P,"")

Sheet Харків
A1: Індекс | B1: Назва | C1: Доступно Харків | D1: 1
A2: TNSy5900058 | B2: Труба гофрована поліпропіленова, з протяжкою, НГ стійка до УФ 25, чорна,важка (25м) | C2: >500 | D2: TNSy 5901 (ДКС)
A3: TNSy5900057 | B3: Труба гофрована поліпропіленова, з протяжкою, НГ стійка до УФ 25, чорна,важка (10м) | C3: >50 | D3: TNSy 5901 (ДКС)
A4: TNSy5900056 | B4: Труба гофрована поліпропіленова, з протяжкою, НГ стійка до УФ 20, чорна,важка (50м) | C4: >500 | D4: TNSy 5901 (ДКС)
A5: TNSy5900055 | B5: Труба гофрована поліпропіленова, з протяжкою, НГ стійка до УФ 20, чорна,важка (25м) | C5: >500 | D5: TNSy 5901 (ДКС)
A6: TNSy5900054 | B6: Труба гофрована поліпропіленова, з протяжкою, НГ стійка до УФ 20, чорна,важка (10м) | C6: >50 | D6: TNSy 5901 (ДКС)
A7: TNSy5900053 | B7: Труба гофрована поліпропіленова, з протяжкою, НГ стійка до УФ 16, чорна,важка (50м) | C7: >500 | D7: TNSy 5901 (ДКС)
A8: TNSy5900052 | B8: Труба гофрована поліпропіленова, з протяжкою, НГ стійка до УФ 16, чорна,важка (25м) | C8: >500 | D8: TNSy 5901 (ДКС)
A9: TNSy5900051 | B9: Труба гофрована поліпропіленова, з протяжкою, НГ стійка до УФ 16, чорна,важка (10м) | C9: >50 | D9: TNSy 5901 (ДКС)
A10: TNSy5900050 | B10: Кронштейн КСУР Ф50мм з регульованим кутом нахилу довжина 350мм | C10: 0 | D10: TNSy 5901 (ДКС)
A11: TNSy5900043 | B11: TNSy5900043 Затискач відгалужувальний У859М (50-70/4-35 мм2) | C11: 0 | D11: TNSy 5901 (ДКС)
A12: TNSy5900042 | B12: Трубка гофрована Нерозрізна автомобільна 7,5/10,5мм (100 м) | C12: 0 | D12: TNSy 5901 (ДКС)
A13: TNSy5900041 | B13: Трубка гофрована Нерозрізна автомобільна 17/21,5мм (100 м) | C13: >20 | D13: TNSy 5901 (ДКС)
A14: TNSy5900040 | B14: Трубка гофрована розрізна автомобільна 17/21,5мм (100 м) | C14: 0 | D14: TNSy 5901 (ДКС)
A15: TNSy5900039 | B15: Трубка гофрована Нерозрізна автомобільна 11/14мм (100 м) | C15: >100 | D15: TNSy 5901 (ДКС)
A16: TNSy5900038 | B16: Трубка гофрована розрізна автомобільна 11/14мм (150 м) | C16: >100 | D16: TNSy 5901 (ДКС)
A17: TNSy5900037 | B17: Трубка гофрована розрізна автомобільна 7,5/10,5мм (100 м) | C17: >50 | D17: TNSy 5901 (ДКС)
A18: TNSy5900036 | B18: Труба гладка жорстка електротехнічна Ø50 мм, 2 м (з'єднання "папа-мама") | C18: 0 | D18: TNSy 5901 (ДКС)
A19: TNSy5900035 | B19: Труба гладка жорстка електротехнічна Ø40 мм, 2 м (з'єднання "папа-мама") | C19: 0 | D19: TNSy 5901 (ДКС)
A20: TNSy5900034 | B20: Труба гладка жорстка електротехнічна Ø32 мм, 2 м (з'єднання "папа-мама") | C20: >50 | D20: TNSy 5901 (ДКС)
A21: TNSy5900033 | B21: Труба гладка жорстка електротехнічна Ø25 мм, 2 м (з'єднання "папа-мама") | C21: >100 | D21: TNSy 5901 (ДКС)
A22: TNSy5900032 | B22: Труба гладка жорстка електротехнічна Ø20 мм, 2 м (з'єднання "папа-мама") | C22: >200 | D22: TNSy 5901 (ДКС)
A23: TNSy5900031 | B23: Труба гладка жорстка електротехнічна Ø16 мм, 2 м (з'єднання "папа-мама") | C23: >100 | D23: TNSy 5901 (ДКС)
A24: TNSy5900021 | B24: Затискач плашковий ПА-3-2 (12.3-14.0) | C24: 0 | D24: TNSy 5901 (ДКС)
A25: TNSy5900020 | B25: Затискач плашковий ПА-2-1 (9.6-12.3) | C25: >20 | D25: TNSy 5901 (ДКС)
A26: TNSy5900019 | B26: Фасадне кріплення ZCZD-1 (КФК) | C26: >20 | D26: TNSy 5901 (ДКС)
A27: TNSy5900018 | B27: Фасадне кріплення ZCZD-3 (КФК) | C27: >20 | D27: TNSy 5901 (ДКС)
A28: TNSy5900017 | B28: Кронштейн універсальний Ф50-350-30* для консольного світильника (30 град.) | C28: 0 | D28: TNSy 5901 (ДКС)
A29: TNSy5900016 | B29: Затискач проколюючий 16-95/16-95 | C29: >100 | D29: TNSy 5901 (ДКС)
A30: TNSy5900015 | B30: Затискач анкерний ZAS 4x150-240 | C30: 0 | D30: TNSy 5901 (ДКС)
A31: TNSy5900014 | B31: Кронштейн універсальний Ф50-350-45* для консольного світильника (45 град.) | C31: >10 | D31: TNSy 5901 (ДКС)
A32: TNSy5900012 | B32: Затискач з'єднувальний плашковий ПА-1-1 (5.1-9.6) | C32: >20 | D32: TNSy 5901 (ДКС)
A33: TNSy5900011 | B33: Затискач проколюючий KWEP-B (16-95/1,5-10) | C33: >50 | D33: TNSy 5901 (ДКС)
A34: TNSy5900010 | B34: Затискач проколюючий 6-35/16-70 | C34: 0 | D34: TNSy 5901 (ДКС)
A35: TNSy5900009 | B35: Крюк європейський універсальний КЕ 3Т | C35: >100 | D35: TNSy 5901 (ДКС)
A36: TNSy5900008 | B36: Затискач підтримуючий ZP 4х16-95 | C36: >50 | D36: TNSy 5901 (ДКС)
A37: TNSy5900007 | B37: Затискач силовий ZC 4х25-50 | C37: >20 | D37: TNSy 5901 (ДКС)
A38: TNSy5900006 | B38: Затискач силовий ZC 2х25-50 | C38: >10 | D38: TNSy 5901 (ДКС)
A39: TNSy5900005 | B39: Затискач анкерний ZA 4х50-120 | C39: >10 | D39: TNSy 5901 (ДКС)
A40: TNSy5900004 | B40: Затискач анкерний ZA 4х35-95 | C40: >10 | D40: TNSy 5901 (ДКС)
A41: TNSy5900003 | B41: Затискач пластина PL 4х16-25 | C41: >100 | D41: TNSy 5901 (ДКС)
A42: TNSy5900002 | B42: Затискач дротовий PR 4х16-25 | C42: >100 | D42: TNSy 5901 (ДКС)
A43: TNSy5900001 | B43: Затискач дротовий PR 2х16-25 | C43: >20 | D43: TNSy 5901 (ДКС)
A44: TNSy5506900 | B44: Ножиці секторні НСт-30 L-35/48 d30мм 750мм2 Cu/Al d13мм Ст | C44: 0 | D44: TNSy 5501
A45: TNSy5506899 | B45: Ножиці секторні НСт-28 L-40/57 d28мм 630мм2 Cu/Al d10мм Ст | C45: 0 | D45: TNSy 5501
A46: TNSy5506898 | B46: Ножиці секторні НС-50В L-34/55 d50мм Cu/Al+Б | C46: 0 | D46: TNSy 5501
A47: TNSy5506897 | B47: Ножиці секторні НС-40 L-34 d20мм 300мм2 Cu/Al | C47: 0 | D47: TNSy 5501
A48: TNSy5506896 | B48: Трансформатор струму КCT-T50 800/5A клас 0,5 КЛІПСА (некомер) | C48: 0 | D48: TNSy 5501
A49: TNSy5506895 | B49: Трансформатор струму КCT-T50 600/5A клас 0,5 КЛІПСА (некомер) | C49: 0 | D49: TNSy 5501
A50: TNSy5506894 | B50: Трансформатор струму КCT-T36 600/5A клас 0,5 КЛІПСА (некомер) | C50: 0 | D50: TNSy 5501
A51: TNSy5506893 | B51: Трансформатор струму КCT-T36 400/5A клас 0,5 КЛІПСА (некомер) | C51: 0 | D51: TNSy 5501
A52: TNSy5506892 | B52: Трансформатор струму КCT-T36 300/5A клас 0,5 КЛІПСА (некомер) | C52: 0 | D52: TNSy 5501
A53: TNSy5506891 | B53: Трансформатор струму КCT-T36 200/5A клас 0,5 КЛІПСА (некомер) | C53: 0 | D53: TNSy 5501
A54: TNSy5506890 | B54: Трансформатор струму КCT-T24 400/5A клас 0,5 КЛІПСА (некомер) | C54: 0 | D54: TNSy 5501
A55: TNSy5506889 | B55: Трансформатор струму КCT-T24 300/5A клас 0,5 КЛІПСА (некомер) | C55: 0 | D55: TNSy 5501
... A140: TNSy5506773 | B140: Лампа AD30DS d30mm 230В AC біла | C140: 0 | D140: TNSy 5501
A141: TNSy5506772 | B141: Замок ЗМ-20-22/45-H24 секр. 2 ключі, металевий. | C141: >100 | D141: TNSy 5501
A142: TNSy5506766 | B142: Корпус пласт. ЩМПп-600х500х230мм ABS IP65 | C142: >20 | D142: TNSy 5501
A143: TNSy5506765 | B143: Корпус пласт. ЩМПп-500х350х220мм ABS IP65 | C143: >20 | D143: TNSy 5501
A144: TNSy5506764 | B144: Корпус пласт. ЩМПп-400х300х210мм ABS IP65 | C144: >50 | D144: TNSy 5501
A145: TNSy5506763 | B145: Корпус пласт. ЩМПп-330х250х140мм ABS IP65 | C145: >200 | D145: TNSy 5501
A146: TNSy5506762 | B146: Корпус пласт. ЩМПп-280х210х130мм ABS IP65 | C146: >100 | D146: TNSy 5501
A147: TNSy5506761 | B147: Замок ЗМ-16-18/40-H16 секр. 2 ключі, металевий. | C147: >2000 | D147: TNSy 5501
A148: TNSy5506760 | B148: Замок ЗМ-20-22/47-H23 секр. 2 ключі, металевий. | C148: >200 | D148: TNSy 5501
A149: TNSy5506754 | B149: Рамка УР50 для дроту | C149: 0 | D149: TNSy 5501
A150: TNSy5506753 | B150: Котушка УК50км 4 місця, 50м, 2Р+PЕ 3х1 IP44. з З/К та Т/З. | C150: >10 | D150: TNSy 5501
A151: TNSy5506752 | B151: Котушка УК50к 4 місця, 50м, 2Р+PЕ 3х1 IP44. з З/К та Т/З. | C151: 10 | D151: TNSy 5501
A152: TNSy5506751 | B152: Котушка УК50+1 4+1 місця, 50м, 2Р+PЕ 3х1 IP20. з З/К та Т/З. | C152: >10 | D152: TNSy 5501
A153: TNSy5506750 | B153: Котушка УК50 4 місця, 50м, 2Р+PЕ 3х1 IP20. з З/К та Т/З. | C153: >20 | D153: TNSy 5501
A154: TNSy5506748 | B154: Котушка УК30 4 місця, 30м, 2Р+PЕ 3х1 IP20. з З/К та Т/З. | C154: >20 | D154: TNSy 5501
A155: TNSy5506746 | B155: Подовжувач УР50 на рамці 1 місце 2Р+PE/50м 3х1,0 мм3 | C155: >20 | D155: TNSy 5501
A156: TNSy5506745 | B156: Подовжувач УР40 на рамці 1 місце 2Р+PE/40м 3х1,0 мм2 | C156: >20 | D156: TNSy 5501
A157: TNSy5506744 | B157: Подовжувач УР30 на рамці 1 місце 2Р+PE/30м 3х1,0 мм2 | C157: >20 | D157: TNSy 5501
A158: TNSy5506737 | B158: Датчик руху ДР B01M. 100Вт. 120гр. 2-10м. IP65/IP20 вбудований | C158: >20 | D158: TNSy 5501
A159: TNSy5506736 | B159: Авт. вим. ВА44-400 3Р 400А 50кА | C159: >20 | D159: TNSy 5501
A160: TNSy5506735 | B160: Авт. вим. ВА44-400 3Р 315А 50кА | C160: >10 | D160: TNSy 5501
A161: TNSy5506734 | B161: Авт. вим. ВА44-400 3Р 250А 50кА | C161: >10 | D161: TNSy 5501
A162: TNSy5506733 | B162: Авт. вим. ВА44-250 3Р 250А 35кА | C162: >20 | D162: TNSy 5501
A163: TNSy5506732 | B163: Авт. вим. ВА44-250 3Р 200А 35кА | C163: >20 | D163: TNSy 5501
... A170: TNSy5506725 | B170: Авт. вим. ВА44-125 3Р 50А 35кА | C170: >10 | D170: TNSy 5501
A171: TNSy5506724 | B171: Авт. вим. ВА44-125 3Р 40А 35кА | C171: 0 | D171: TNSy 5501
A172: TNSy5506723 | B172: Авт. вим. ВА44-125 3Р 32А 35кА | C172: 0 | D172: TNSy 5501
A173: TNSy5506722 | B173: Авт. вим. ВА44-125 3Р 25А 35кА | C173: 0 | D173: TNSy 5501
A174: TNSy5506721 | B174: Авт. вим. ВА44-125 3Р 16А 35кА | C174: 0 | D174: TNSy 5501
A175: TNSy5506720 | B175: Авт. вим. ВА44-63 3Р 63А 25кА | C175: >20 | D175: TNSy 5501
A176: TNSy5506719 | B176: Авт. вим. ВА44-63 3Р 50А 25кА | C176: >20 | D176: TNSy 5501
A177: TNSy5506718 | B177: Авт. вим. ВА44-63 3Р 40А 25кА | C177: >20 | D177: TNSy 5501
A178: TNSy5506717 | B178: Авт. вим. ВА44-63 3Р 32А 25кА | C178: >20 | D178: TNSy 5501
A179: TNSy5506716 | B179: Авт. вим. ВА44-63 3Р 25А 25кА | C179: >20 | D179: TNSy 5501
A180: TNSy5506715 | B180: Авт. вим. ВА44-63 3Р 16А 25кА | C180: >20 | D180: TNSy 5501
A181: TNSy5506714 | B181: Коробка КВг-5 IP68 с гелем для клеми СМК221/222 | C181: >50 | D181: TNSy 5501
A182: TNSy5506713 | B182: Коробка КВг-3 IP68 с гелем для клеми СМК221/222 | C182: >100 | D182: TNSy 5501
A183: TNSy5506712 | B183: Коробка КВг-2 IP68 с гелем для клеми СМК221/222 | C183: >100 | D183: TNSy 5501
A184: TNSy5506711 | B184: Матриця для EW-09E (1-20мм2 E/TE/EN) | C184: 0 | D184: TNSy 5501
A185: TNSy5506710 | B185: Прес-кліщі AM-10 пневматичні для опресування 0,5-10mm2 E/TE/EN/RNB/SV/RV/MDD/FDD/SC | C185: 1 | D185: TNSy 5501
A186: TNSy5506709 | B186: Прес-кліщі EW-10ET електричні для опресування 0,5-35mm2 E/TE/EN/RNB/SV/RV/MDD/FDD/SC | C186: 1 | D186: TNSy 5501
A187: TNSy5506708 | B187: Станок EW-1210-2 для різки термоусаджувальної трубки | C187: 0 | D187: TNSy 5501
A188: TNSy5506707 | B188: Реле РНр1-16 1ф 16А 140/280В (ВИЛКА-РОЗЕТКА) контроль напруги | C188: >50 | D188: TNSy 5501
A189: TNSy5506706 | B189: Реле РВф1/3-125 (АВР) 8мод авт. вибір фази 3x400V/1x230V | C189: >20 | D189: TNSy 5501
A190: TNSy5506705 | B190: Реле РВф1/3-63 (АВР) 5мод авт. вибір фази 3x400V/1x230V | C190: >20 | D190: TNSy 5501
...

Sheet Знято з виробництва
B1: ЗМІСТ | D1: Знято з виробництва
B2: Індекс | C2: Назва
B3: TNSy5504925/1 | C3: Скоба оцинкована однолапкова СОО-17 d15-17мм 14/0,8мм МР12 (20шт/пак) | D3: TNSy знятий з виробництва
B4: TNSy5504929/1 | C4: Скоба оцинкована однолапкова СОО-17 PRO d15-17мм 14/1мм МР12 (20шт/пак) | D4: TNSy знятий з виробництва
B5: TNSy5504926/1 | C5: Скоба оцинкована однолапкова СОО-21 d19-21мм 14/0,8мм МР15 (20шт/пак) | D5: TNSy знятий з виробництва
B6: TNSy5504930/1 | C6: Скоба оцинкована однолапкова СОО-21 PRO d19-21мм 14/1мм МР15 (20шт/пак) | D6: TNSy знятий з виробництва
B7: TNSy5504927/1 | C7: Скоба оцинкована однолапкова СОО-23 d21-23мм 14/0,8мм МР18 (20шт/пак) | D7: TNSy знятий з виробництва
B8: TNSy5504928/1 | C8: Скоба оцинкована однолапкова СОО-26 d24-26мм 14/0,8мм МР20/22 (20шт/пак) | D8: TNSy знятий з виробництва
B9: TNSy5504932/1 | C9: Скоба оцинкована однолапкова СОО-26 PRO d24-26мм 14/1мм МР20/22 (20шт/пак) | D9: TNSy знятий з виробництва
B10: TNSy5502634 | C10: Ізолятор SM25S М6 без болтів (25*19 6kV) | D10: TNSy знятий з виробництва
B11: TNSy5502635 | C11: Ізолятор SM25S М6 з болтом (25*19 6kV) | D11: TNSy знятий з виробництва
B12: TNSy5502644 | C12: Ізолятор SM50 М10 без болтів (50*50 15,5kV) | D12: TNSy знятий з виробництва
B13: TNSy5502645 | C13: Ізолятор SM50 М10 з болтом (50*50 15,5kV) | D13: TNSy знятий з виробництва
B14: TNSy5501138 | C14: Ізолятор SM60 М10 без болтів (60*46 20kV) | D14: TNSy знятий з виробництва
... B416: TNSy5503283 | C416: Ковпачок термоусаджувальний 16КТк-16/8 | D416: TNSy знятий з виробництва
